BEGIN:VCALENDAR
VERSION:2.0
PRODID:-//104.21.3.77//NONSGML kigkonsult.se iCalcreator 2.26.9//
CALSCALE:GREGORIAN
METHOD:PUBLISH
X-FROM-URL:https://www.seattlebikeblog.com
X-WR-TIMEZONE:America/Los_Angeles
BEGIN:VTIMEZONE
TZID:America/Los_Angeles
X-LIC-LOCATION:America/Los_Angeles
BEGIN:STANDARD
DTSTART:20231105T020000
TZOFFSETFROM:-0700
TZOFFSETTO:-0800
RDATE:20241103T020000
TZNAME:PST
END:STANDARD
BEGIN:DAYLIGHT
DTSTART:20230312T020000
TZOFFSETFROM:-0800
TZOFFSETTO:-0700
RDATE:20240310T020000
TZNAME:PDT
END:DAYLIGHT
END:VTIMEZONE
BEGIN:VEVENT
UID:ai1ec-502648@www.seattlebikeblog.com
DTSTAMP:20230811T165914Z
CATEGORIES:
CONTACT:Cassette Club Seattle\; 2064672668\; tdavis@workshophg.com\; http:/
 /cassetteclubseattle.com
DESCRIPTION:A free workshop for people to learn how to stay safe and do bas
 ic repairs on their bikes to keep themselves safe and rolling. This will b
 e the first installment in a series of mini workshops to come. RSVP to tda
 vis@workshophg.com I have room for 8 people.\nShareMastodonTwitterFacebook
 RedditEmail
DTSTART;VALUE=DATE:20221122
DTEND;VALUE=DATE:20221123
GEO:+47.598949;-122.333459
LOCATION:Cassette Club @ 115 S Jackson St\, Seattle\, WA 98104\, USA
SEQUENCE:0
SUMMARY:Bicycle Basics 101 Class Pre Ride Check and Flat Fix workshop
URL:https://www.seattlebikeblog.com/event/bicycle-basics-101-class-pre-ride
 -check-and-flat-fix-workshop/
X-COST-TYPE:free
X-ALT-DESC;FMTTYPE=text/html:<!DOCTYPE HTML PUBLIC '-//W3C//DTD HTML 3.2//E
 N'>\\n<HTML>\\n<HEAD>\\n<TITLE></TITLE>\\n</HEAD>\\n<BODY><p>A free worksh
 op for people to learn how to stay safe and do basic repairs on their bike
 s to keep themselves safe and rolling. This will be the first installment 
 in a series of mini workshops to come. RSVP to tdavis@workshophg.com I hav
 e room for 8 people.</p>\n<div class='sharedaddy sd-sharing-enabled'><div 
 class='robots-nocontent sd-block sd-social sd-social-icon-text sd-sharing'
 ><h3 class='sd-title'>Share</h3><div class='sd-content'><ul><li class='sha
 re-mastodon'><a rel='nofollow noopener noreferrer' data-shared='sharing-ma
 stodon-505665' class='share-mastodon sd-button share-icon' href='https://w
 ww.seattlebikeblog.com/2023/08/10/cpsc-should-eliminate-outdated-child-coa
 ster-brake-mandate/?share=mastodon' target='_blank' title='Click to share 
 on Mastodon' ><span>Mastodon</span></a></li><li class='share-twitter'><a r
 el='nofollow noopener noreferrer' data-shared='sharing-twitter-505665' cla
 ss='share-twitter sd-button share-icon' href='https://www.seattlebikeblog.
 com/2023/08/10/cpsc-should-eliminate-outdated-child-coaster-brake-mandate/
 ?share=twitter' target='_blank' title='Click to share on Twitter' ><span>T
 witter</span></a></li><li class='share-facebook'><a rel='nofollow noopener
  noreferrer' data-shared='sharing-facebook-505665' class='share-facebook s
 d-button share-icon' href='https://www.seattlebikeblog.com/2023/08/10/cpsc
 -should-eliminate-outdated-child-coaster-brake-mandate/?share=facebook' ta
 rget='_blank' title='Click to share on Facebook' ><span>Facebook</span></a
 ></li><li class='share-reddit'><a rel='nofollow noopener noreferrer' data-
 shared='' class='share-reddit sd-button share-icon' href='https://www.seat
 tlebikeblog.com/2023/08/10/cpsc-should-eliminate-outdated-child-coaster-br
 ake-mandate/?share=reddit' target='_blank' title='Click to share on Reddit
 ' ><span>Reddit</span></a></li><li class='share-email'><a rel='nofollow no
 opener noreferrer' data-shared='' class='share-email sd-button share-icon'
  href='mailto:?subject=%5BShared%20Post%5D%20CPSC%20should%20eliminate%20o
 utdated%20child%20coaster%20brake%20mandate&body=https%3A%2F%2Fwww.seattle
 bikeblog.com%2F2023%2F08%2F10%2Fcpsc-should-eliminate-outdated-child-coast
 er-brake-mandate%2F&share=email' target='_blank' title='Click to email a l
 ink to a friend' data-email-share-error-title='Do you have email set up?' 
 data-email-share-error-text='If you're having problems sharing via email\,
  you might not have email set up for your browser. You may need to create 
 a new email yourself.' data-email-share-nonce='751dd8b6c2' data-email-shar
 e-track-url='https://www.seattlebikeblog.com/2023/08/10/cpsc-should-elimin
 ate-outdated-child-coaster-brake-mandate/?share=email'><span>Email</span><
 /a></li><li class='share-end'></li></ul></div></div></div></BODY></HTML>
X-TAGS;LANGUAGE=en-US:Bicycle Commuters\,broadenourcommunity\,DIY Bicycle\,
 Pioneer Square
END:VEVENT
END:VCALENDAR
