BEGIN:VCALENDAR
VERSION:2.0
PRODID:-//172.67.130.121//NONSGML kigkonsult.se iCalcreator 2.26.9//
CALSCALE:GREGORIAN
METHOD:PUBLISH
X-FROM-URL:https://www.seattlebikeblog.com
X-WR-TIMEZONE:America/Los_Angeles
BEGIN:VTIMEZONE
TZID:America/Los_Angeles
X-LIC-LOCATION:America/Los_Angeles
BEGIN:STANDARD
DTSTART:20231105T020000
TZOFFSETFROM:-0700
TZOFFSETTO:-0800
RDATE:20241103T020000
TZNAME:PST
END:STANDARD
BEGIN:DAYLIGHT
DTSTART:20230312T020000
TZOFFSETFROM:-0800
TZOFFSETTO:-0700
RDATE:20240310T020000
TZNAME:PDT
END:DAYLIGHT
END:VTIMEZONE
BEGIN:VEVENT
UID:ai1ec-503958@www.seattlebikeblog.com
DTSTAMP:20230811T115536Z
CATEGORIES:
CONTACT:City of Bellevue\; : 425-452-6885\; bikeride@bellevuewa.gov\; http:
 //BellevueWA.gov/bike-ride
DESCRIPTION:<p>The City of Bellevue presents the 10th Annual Lake to Lake B
 ike Ride<br />\nJune 10\, 2023</p>\n<p>Explore Bellevue’s hidden treasures
  by bike on the Lake to Lake Bike Ride on June 10\, 2023\, rain or shine. 
 Remember we have a kids ride in the park for children 8 and under afterwar
 ds. Bring the whole family to this enjoyable\, non-competitive ride benefi
 ting the City of Bellevue’s youth donation fund.<br />\nStart/Finish: Robi
 nswood Community Park\, North Entrance\, 14915\, SE 22nd St.<br />\nStart 
 area: Long course riders need to leave by 9:30\, short course leave betwee
 n 9:30 and 10. The course will be marked and well-supported by staff and v
 olunteers until noon. Kids ride at 12:15. The event ends at 12:45.<br />\n
 Online registration closes at 4 p.m. on Friday\, June 9. Day-of registrati
 on begins Saturday\, June 10\, at 8 a.m.\, while space is available. Pre-R
 egistration and entry fees: Register online at parks.bellevuewa.gov/ride f
 or course # 2301198 Or call 425-452-6885 Free Kids ride in the park at 12:
 15. Pre-registration recommended course <a rel='tag' class='u-tag u-catego
 ry' href='https://www.seattlebikeblog.com/tag/2301199/'>#2301199</a><br />
 \nTwo routes — the mostly flat\, eight -mile Greenbelt Loop and the more c
 hallenging\, 24-mile Lake Loop with significant elevation gain. Both route
 s are approximately 80 percent paved road and 20 percent small gravel.<br 
 />\nEquipment: Past participants have ridden these courses on all types of
  bikes. Over the 9-year duration of the ride\, past participants tell us t
 hey prefer a cyclo cross adventure type bike with tires with some traction
  or a mountain bike. The event will have bike mechanics on site at the sta
 rt to assist with safety checks and minor repairs. All riders must wear he
 lmets.<br />\nPrizes: Post-event prize giveaway. All participants will rec
 eive a custom-designed event t shirt and various freebies at the post-even
 t prize giveaway.<br />\nRequirements: All participants must obey the rule
 s of the road and trail. Recommended for riders ages 9 and older (Greenbel
 t Loop). All riders under age 18 must be accompanied by a responsible adul
 t on all rides.<br />\nFor more information:<br />\nInfo: 425-452-4882 bik
 eride@bellevuewa.gov Phone Registration: 425-452-6885</p>\n<p>Info at Bell
 evueWA.gov/bike-ride Social Media <a rel='tag' class='u-tag u-category' hr
 ef='https://www.seattlebikeblog.com/tag/coblk2lk/'>#coblk2lk</a> https://r
 egister.bellevuewa.gov/php/onlinereg/<br />\nTo register\, parks.bellevuew
 a.gov/ride course # 2301198<br />\nKids ride registration course # 2301199
 </p>\n<div class='sharedaddy sd-sharing-enabled'><div class='robots-nocont
 ent sd-block sd-social sd-social-icon-text sd-sharing'><h3 class='sd-title
 '>Share</h3><div class='sd-content'><ul><li class='share-mastodon'><a rel=
 'nofollow noopener noreferrer' data-shared='sharing-mastodon-505665' class
 ='share-mastodon sd-button share-icon' href='https://www.seattlebikeblog.c
 om/2023/08/10/cpsc-should-eliminate-outdated-child-coaster-brake-mandate/?
 share=mastodon' target='_blank' title='Click to share on Mastodon' ><span>
 Mastodon</span></a></li><li class='share-twitter'><a rel='nofollow noopene
 r noreferrer' data-shared='sharing-twitter-505665' class='share-twitter sd
 -button share-icon' href='https://www.seattlebikeblog.com/2023/08/10/cpsc-
 should-eliminate-outdated-child-coaster-brake-mandate/?share=twitter' targ
 et='_blank' title='Click to share on Twitter' ><span>Twitter</span></a></l
 i><li class='share-facebook'><a rel='nofollow noopener noreferrer' data-sh
 ared='sharing-facebook-505665' class='share-facebook sd-button share-icon'
  href='https://www.seattlebikeblog.com/2023/08/10/cpsc-should-eliminate-ou
 tdated-child-coaster-brake-mandate/?share=facebook' target='_blank' title=
 'Click to share on Facebook' ><span>Facebook</span></a></li><li class='sha
 re-reddit'><a rel='nofollow noopener noreferrer' data-shared='' class='sha
 re-reddit sd-button share-icon' href='https://www.seattlebikeblog.com/2023
 /08/10/cpsc-should-eliminate-outdated-child-coaster-brake-mandate/?share=r
 eddit' target='_blank' title='Click to share on Reddit' ><span>Reddit</spa
 n></a></li><li class='share-email'><a rel='nofollow noopener noreferrer' d
 ata-shared='' class='share-email sd-button share-icon' href='mailto:?subje
 ct=%5BShared%20Post%5D%20CPSC%20should%20eliminate%20outdated%20child%20co
 aster%20brake%20mandate&body=https%3A%2F%2Fwww.seattlebikeblog.com%2F2023%
 2F08%2F10%2Fcpsc-should-eliminate-outdated-child-coaster-brake-mandate%2F&
 share=email' target='_blank' title='Click to email a link to a friend' dat
 a-email-share-error-title='Do you have email set up?' data-email-share-err
 or-text='If you're having problems sharing via email\, you might not have 
 email set up for your browser. You may need to create a new email yourself
 .' data-email-share-nonce='fa8e82c0dd' data-email-share-track-url='https:/
 /www.seattlebikeblog.com/2023/08/10/cpsc-should-eliminate-outdated-child-c
 oaster-brake-mandate/?share=email'><span>Email</span></a></li><li class='s
 hare-end'></li></ul></div></div></div><p>Tickets: <a class='ai1ec-ticket-u
 rl-exported' href='https://register.bellevuewa.gov/php/onlinereg/'>https:/
 /register.bellevuewa.gov/php/onlinereg/</a>.</p>
DTSTART;VALUE=DATE:20230610
DTEND;VALUE=DATE:20230611
LOCATION:Robinswood Community Park\, North Entrance\, 14915\, SE 22nd St. @
  Robinswood Community Park\, North Entrance\, 14915\, SE 22nd St.
SEQUENCE:0
SUMMARY:The City of Bellevue presents the 10th Annual Lake to Lake Bike Rid
 e June 10\, 2023
URL:https://www.seattlebikeblog.com/event/the-city-of-bellevue-presents-the
 -10th-annual-lake-to-lake-bike-ride-june-10-2023/
X-COST-TYPE:external
X-TAGS;LANGUAGE=en-US:Bike
X-TICKETS-URL:https://register.bellevuewa.gov/php/onlinereg/
END:VEVENT
BEGIN:VEVENT
UID:ai1ec-501752@www.seattlebikeblog.com
DTSTAMP:20230811T115536Z
CATEGORIES:
CONTACT:West Seattle Bike Connections\; westseattlebikeconnections@gmail.co
 m\; http://westseattlebikeconnections.org
DESCRIPTION:<p>The Southwest Seattle Historical Society and West Seattle Bi
 ke Connections are delighted to announce that Cycle History is back for an
  in-person ride in 2022!</p>\n<p>Come explore West Seattle’s music scene –
 from jazz to grunge\, we’ll have stops to please music lovers\, bike enthu
 siasts\, and everyone in between! Musician and West Seattle music historia
 n\, Peder Nelson\, will tell stories\, play clips of music\, and introduce
  a couple of guests from the music community. This Cycle History ride is a
 n annual project of Southwest Seattle Historical Society and West Seattle 
 Bike Connections. Join us after the ride for the End of the Summer Social 
 at the Log House Museum\, 1-3pm.</p>\n<p>This will be a Cascade Bicycle Cl
 ub free group ride. Registration is required. Please register in advance t
 o help us get going more quickly. See the registration page for details ab
 out the ride.</p>\n<div class='sharedaddy sd-sharing-enabled'><div class='
 robots-nocontent sd-block sd-social sd-social-icon-text sd-sharing'><h3 cl
 ass='sd-title'>Share</h3><div class='sd-content'><ul><li class='share-mast
 odon'><a rel='nofollow noopener noreferrer' data-shared='sharing-mastodon-
 505665' class='share-mastodon sd-button share-icon' href='https://www.seat
 tlebikeblog.com/2023/08/10/cpsc-should-eliminate-outdated-child-coaster-br
 ake-mandate/?share=mastodon' target='_blank' title='Click to share on Mast
 odon' ><span>Mastodon</span></a></li><li class='share-twitter'><a rel='nof
 ollow noopener noreferrer' data-shared='sharing-twitter-505665' class='sha
 re-twitter sd-button share-icon' href='https://www.seattlebikeblog.com/202
 3/08/10/cpsc-should-eliminate-outdated-child-coaster-brake-mandate/?share=
 twitter' target='_blank' title='Click to share on Twitter' ><span>Twitter<
 /span></a></li><li class='share-facebook'><a rel='nofollow noopener norefe
 rrer' data-shared='sharing-facebook-505665' class='share-facebook sd-butto
 n share-icon' href='https://www.seattlebikeblog.com/2023/08/10/cpsc-should
 -eliminate-outdated-child-coaster-brake-mandate/?share=facebook' target='_
 blank' title='Click to share on Facebook' ><span>Facebook</span></a></li><
 li class='share-reddit'><a rel='nofollow noopener noreferrer' data-shared=
 '' class='share-reddit sd-button share-icon' href='https://www.seattlebike
 blog.com/2023/08/10/cpsc-should-eliminate-outdated-child-coaster-brake-man
 date/?share=reddit' target='_blank' title='Click to share on Reddit' ><spa
 n>Reddit</span></a></li><li class='share-email'><a rel='nofollow noopener 
 noreferrer' data-shared='' class='share-email sd-button share-icon' href='
 mailto:?subject=%5BShared%20Post%5D%20CPSC%20should%20eliminate%20outdated
 %20child%20coaster%20brake%20mandate&body=https%3A%2F%2Fwww.seattlebikeblo
 g.com%2F2023%2F08%2F10%2Fcpsc-should-eliminate-outdated-child-coaster-brak
 e-mandate%2F&share=email' target='_blank' title='Click to email a link to 
 a friend' data-email-share-error-title='Do you have email set up?' data-em
 ail-share-error-text='If you're having problems sharing via email\, you mi
 ght not have email set up for your browser. You may need to create a new e
 mail yourself.' data-email-share-nonce='fa8e82c0dd' data-email-share-track
 -url='https://www.seattlebikeblog.com/2023/08/10/cpsc-should-eliminate-out
 dated-child-coaster-brake-mandate/?share=email'><span>Email</span></a></li
 ><li class='share-end'></li></ul></div></div></div><p>Tickets: <a class='a
 i1ec-ticket-url-exported' href='https://cascade.org/node/79067'>https://ca
 scade.org/node/79067</a>.</p>
DTSTART;TZID=America/Los_Angeles:20220918T100000
DTEND;TZID=America/Los_Angeles:20220918T120000
GEO:+47.578699;-122.383271
LOCATION:West Seattle High School north drive opposite Hiawatha Community C
 enter. @ Walnut Ave SW\, Seattle\, WA 98116\, USA
SEQUENCE:0
SUMMARY:Cycle History – West Seattle Music Scene
URL:https://www.seattlebikeblog.com/event/cycle-history-west-seattle-music-
 scene/
X-COST-TYPE:external
X-TAGS;LANGUAGE=en-US:Bike Ride\,history\,Music\,social ride\,West Seattle
X-TICKETS-URL:https://cascade.org/node/79067
END:VEVENT
BEGIN:VEVENT
UID:ai1ec-505150@www.seattlebikeblog.com
DTSTAMP:20230811T115536Z
CATEGORIES:
CONTACT:West Seattle Bike Connections\; westseattlebikeconnections@gmail.co
 m\; http://westseattlebikeconnections.org
DESCRIPTION:<p>Have you ever wanted to do the Seattle-to-Portland bike ride
 ? And forgot to sign up? or train? Here is your big chance! Do it in 2 hou
 rs! Same weekend as Cascade’s big STP\, so you can brag and post pix like 
 the other one-day riders. Join West Seattle Bike Connections on a Cascade 
 Bicycle Club free group ride starting at Hamilton Viewpoint Park. We will 
 be riding from SW Seattle Street to SW Portland Street\, and back north to
  Summerfest at the West Seattle Junction\, for a fabulous finish line part
 y. After an hour or two there\, participants can ride home independently\,
  or ride with a leader back to the start. 10 mile somewhat hilly route at 
 a leisurely pace. We invite and welcome everyone including people of all a
 ges\, languages\, ethnicities\, genders\, races\, and abilities.</p>\n<p>O
 nline registration is required and is free.<br />\nSee more information an
 d register at https://cascade.org/node/81260.</p>\n<div class='sharedaddy 
 sd-sharing-enabled'><div class='robots-nocontent sd-block sd-social sd-soc
 ial-icon-text sd-sharing'><h3 class='sd-title'>Share</h3><div class='sd-co
 ntent'><ul><li class='share-mastodon'><a rel='nofollow noopener noreferrer
 ' data-shared='sharing-mastodon-505665' class='share-mastodon sd-button sh
 are-icon' href='https://www.seattlebikeblog.com/2023/08/10/cpsc-should-eli
 minate-outdated-child-coaster-brake-mandate/?share=mastodon' target='_blan
 k' title='Click to share on Mastodon' ><span>Mastodon</span></a></li><li c
 lass='share-twitter'><a rel='nofollow noopener noreferrer' data-shared='sh
 aring-twitter-505665' class='share-twitter sd-button share-icon' href='htt
 ps://www.seattlebikeblog.com/2023/08/10/cpsc-should-eliminate-outdated-chi
 ld-coaster-brake-mandate/?share=twitter' target='_blank' title='Click to s
 hare on Twitter' ><span>Twitter</span></a></li><li class='share-facebook'>
 <a rel='nofollow noopener noreferrer' data-shared='sharing-facebook-505665
 ' class='share-facebook sd-button share-icon' href='https://www.seattlebik
 eblog.com/2023/08/10/cpsc-should-eliminate-outdated-child-coaster-brake-ma
 ndate/?share=facebook' target='_blank' title='Click to share on Facebook' 
 ><span>Facebook</span></a></li><li class='share-reddit'><a rel='nofollow n
 oopener noreferrer' data-shared='' class='share-reddit sd-button share-ico
 n' href='https://www.seattlebikeblog.com/2023/08/10/cpsc-should-eliminate-
 outdated-child-coaster-brake-mandate/?share=reddit' target='_blank' title=
 'Click to share on Reddit' ><span>Reddit</span></a></li><li class='share-e
 mail'><a rel='nofollow noopener noreferrer' data-shared='' class='share-em
 ail sd-button share-icon' href='mailto:?subject=%5BShared%20Post%5D%20CPSC
 %20should%20eliminate%20outdated%20child%20coaster%20brake%20mandate&body=
 https%3A%2F%2Fwww.seattlebikeblog.com%2F2023%2F08%2F10%2Fcpsc-should-elimi
 nate-outdated-child-coaster-brake-mandate%2F&share=email' target='_blank' 
 title='Click to email a link to a friend' data-email-share-error-title='Do
  you have email set up?' data-email-share-error-text='If you're having pro
 blems sharing via email\, you might not have email set up for your browser
 . You may need to create a new email yourself.' data-email-share-nonce='fa
 8e82c0dd' data-email-share-track-url='https://www.seattlebikeblog.com/2023
 /08/10/cpsc-should-eliminate-outdated-child-coaster-brake-mandate/?share=e
 mail'><span>Email</span></a></li><li class='share-end'></li></ul></div></d
 iv></div><p>Tickets: <a class='ai1ec-ticket-url-exported' href='https://ca
 scade.org/node/81260'>https://cascade.org/node/81260</a>.</p>
DTSTART;TZID=America/Los_Angeles:20230716T091500
GEO:+47.593052;-122.385885
LOCATION:Hamilton Viewpoint Park @ 1120 California Way SW\, Seattle\, WA 98
 116\, USA
SEQUENCE:0
SUMMARY:West Seattle Little STP
URL:https://www.seattlebikeblog.com/event/west-seattle-little-stp-2/
X-COST-TYPE:external
X-TAGS;LANGUAGE=en-US:Bike Ride\,free group ride\,social ride\,West Seattle
X-TICKETS-URL:https://cascade.org/node/81260
X-INSTANT-EVENT:1
END:VEVENT
END:VCALENDAR
