BEGIN:VCALENDAR
VERSION:2.0
PRODID:-//172.67.130.121//NONSGML kigkonsult.se iCalcreator 2.26.9//
CALSCALE:GREGORIAN
METHOD:PUBLISH
X-WR-CALNAME:Seattle Bike Blog
X-WR-CALDESC:
X-FROM-URL:https://www.seattlebikeblog.com
X-WR-TIMEZONE:America/Los_Angeles
BEGIN:VTIMEZONE
TZID:America/Los_Angeles
X-LIC-LOCATION:America/Los_Angeles
BEGIN:STANDARD
DTSTART:20231105T020000
TZOFFSETFROM:-0700
TZOFFSETTO:-0800
RDATE:20241103T020000
TZNAME:PST
END:STANDARD
BEGIN:DAYLIGHT
DTSTART:20230312T020000
TZOFFSETFROM:-0800
TZOFFSETTO:-0700
RDATE:20240310T020000
TZNAME:PDT
END:DAYLIGHT
END:VTIMEZONE
BEGIN:VEVENT
UID:6tulrj1d5mdhni1bo3tgaval3k@google.com
DTSTAMP:20230811T071159Z
CATEGORIES;LANGUAGE=en-US:Seattle Neighborhood Greenways
CONTACT:
DESCRIPTION:If you live\, work\, or travel through the area near Aurora bet
 ween 85th and 105th\, take a moment to give feedback on the draft homezone
 . This homezone will make walking and biking through the neighborhood safe
 r\, increase livability\, and create the groundwork for more improvements 
 in the future. \nA group of neighbors has been advising the Department of 
 Transportation for the past year on what sort of improvements should be pr
 ioritized. Learn more about this draft homezone and share your thoughts at
  a drop-in community event at Lantern Brewing (95th & Aurora) on Wednesday
 \, August 23 from 4pm to 6pm.\nOne very clear priority that emerged from t
 he Home Zone Walk Audits last Summer was the need for more trees in the ne
 ighborhood. As part of this homezone\, SDOT will be coordinating through D
 irtCorps free street trees for neighbors to plant in the homezone. Come to
  the community event at Lantern Brewing on Aug. 23rd and sign up for a fre
 e tree! NW Greenways will then plan volunteer planting parties over two we
 ekends to help plant the trees in front of neighbors’ houses.\nClick here 
 if you’d like to learn more about this Home Zone and be sure to come to th
 e community event on August 23rd. In addition to the Aurora Licton Home Zo
 ne\, neighbors will be on hand to talk about the Aurora Ave Project\, the 
 NE Greenwood Homezone and the Bitter Lake Homezone (those blue barrels you
  may have seen in the area)\, and other important projects happening in NW
  Seattle.\nShareMastodonTwitterFacebookRedditEmail
DTSTART;TZID=America/Los_Angeles:20230823T160000
DTEND;TZID=America/Los_Angeles:20230823T180000
LOCATION:Lantern Brewing\, 938 N 95th St\, Seattle\, WA 98103\, USA
SEQUENCE:0
SUMMARY:Drop In Community Event: Aurora-Licton Home Zone (85th – 105th)
URL:https://www.seattlebikeblog.com/event/drop-in-community-event-aurora-li
 cton-home-zone-85th-105th/
X-ALT-DESC;FMTTYPE=text/html:<!DOCTYPE HTML PUBLIC '-//W3C//DTD HTML 3.2//E
 N'>\\n<HTML>\\n<HEAD>\\n<TITLE></TITLE>\\n</HEAD>\\n<BODY><p>If you live\,
  work\, or travel through the area near Aurora between 85th and 105th\, ta
 ke a moment to <a href='https://www.surveymonkey.com/r/62WQ8V7'>give feedb
 ack on the draft homezone</a>. This homezone will make walking and biking 
 through the neighborhood safer\, increase livability\, and create the grou
 ndwork for more improvements in the future. </p>\n<p>A group of neighbors 
 has been advising the Department of Transportation for the past year on wh
 at sort of improvements should be prioritized. Learn more about this draft
  homezone and share your thoughts at a <b>drop-in community event at Lante
 rn Brewing (95th & Aurora) on Wednesday\, August 23 from 4pm to 6pm</b>.</
 p>\n<p>One very clear priority that emerged from the Home Zone Walk Audits
  last Summer was the need for more trees in the neighborhood. As part of t
 his homezone\, SDOT will be coordinating through DirtCorps free street tre
 es for neighbors to plant in the homezone. <b>Come to the community event 
 at Lantern Brewing on Aug. 23rd and sign up for a free tree!</b> NW Greenw
 ays will then plan volunteer planting parties over two weekends to help pl
 ant the trees in front of neighbors’ houses.</p>\n<p>Click <a href='https:
 //www.seattle.gov/transportation/projects-and-programs/programs/home-zone-
 program/aurora-licton-urban-village'>here</a> if you’d like to learn more 
 about this Home Zone and be sure to come to the community event on August 
 23rd. In addition to the Aurora Licton Home Zone\, neighbors will be on ha
 nd to talk about the Aurora Ave Project\, the NE Greenwood Homezone and th
 e Bitter Lake Homezone (those blue barrels you may have seen in the area)\
 , and other important projects happening in NW Seattle.</p>\n<div class='s
 haredaddy sd-sharing-enabled'><div class='robots-nocontent sd-block sd-soc
 ial sd-social-icon-text sd-sharing'><h3 class='sd-title'>Share</h3><div cl
 ass='sd-content'><ul><li class='share-mastodon'><a rel='nofollow noopener 
 noreferrer' data-shared='sharing-mastodon-505665' class='share-mastodon sd
 -button share-icon' href='https://www.seattlebikeblog.com/2023/08/10/cpsc-
 should-eliminate-outdated-child-coaster-brake-mandate/?share=mastodon' tar
 get='_blank' title='Click to share on Mastodon' ><span>Mastodon</span></a>
 </li><li class='share-twitter'><a rel='nofollow noopener noreferrer' data-
 shared='sharing-twitter-505665' class='share-twitter sd-button share-icon'
  href='https://www.seattlebikeblog.com/2023/08/10/cpsc-should-eliminate-ou
 tdated-child-coaster-brake-mandate/?share=twitter' target='_blank' title='
 Click to share on Twitter' ><span>Twitter</span></a></li><li class='share-
 facebook'><a rel='nofollow noopener noreferrer' data-shared='sharing-faceb
 ook-505665' class='share-facebook sd-button share-icon' href='https://www.
 seattlebikeblog.com/2023/08/10/cpsc-should-eliminate-outdated-child-coaste
 r-brake-mandate/?share=facebook' target='_blank' title='Click to share on 
 Facebook' ><span>Facebook</span></a></li><li class='share-reddit'><a rel='
 nofollow noopener noreferrer' data-shared='' class='share-reddit sd-button
  share-icon' href='https://www.seattlebikeblog.com/2023/08/10/cpsc-should-
 eliminate-outdated-child-coaster-brake-mandate/?share=reddit' target='_bla
 nk' title='Click to share on Reddit' ><span>Reddit</span></a></li><li clas
 s='share-email'><a rel='nofollow noopener noreferrer' data-shared='' class
 ='share-email sd-button share-icon' href='mailto:?subject=%5BShared%20Post
 %5D%20CPSC%20should%20eliminate%20outdated%20child%20coaster%20brake%20man
 date&body=https%3A%2F%2Fwww.seattlebikeblog.com%2F2023%2F08%2F10%2Fcpsc-sh
 ould-eliminate-outdated-child-coaster-brake-mandate%2F&share=email' target
 ='_blank' title='Click to email a link to a friend' data-email-share-error
 -title='Do you have email set up?' data-email-share-error-text='If you're 
 having problems sharing via email\, you might not have email set up for yo
 ur browser. You may need to create a new email yourself.' data-email-share
 -nonce='fa8e82c0dd' data-email-share-track-url='https://www.seattlebikeblo
 g.com/2023/08/10/cpsc-should-eliminate-outdated-child-coaster-brake-mandat
 e/?share=email'><span>Email</span></a></li><li class='share-end'></li></ul
 ></div></div></div></BODY></HTML>
END:VEVENT
END:VCALENDAR
