BEGIN:VCALENDAR
VERSION:2.0
PRODID:-//104.21.3.77//NONSGML kigkonsult.se iCalcreator 2.26.9//
CALSCALE:GREGORIAN
METHOD:PUBLISH
X-WR-CALNAME:Seattle Bike Blog
X-WR-CALDESC:
X-FROM-URL:https://www.seattlebikeblog.com
X-WR-TIMEZONE:America/Los_Angeles
BEGIN:VTIMEZONE
TZID:America/Los_Angeles
X-LIC-LOCATION:America/Los_Angeles
BEGIN:STANDARD
DTSTART:20231105T020000
TZOFFSETFROM:-0700
TZOFFSETTO:-0800
RDATE:20241103T020000
TZNAME:PST
END:STANDARD
BEGIN:DAYLIGHT
DTSTART:20230312T020000
TZOFFSETFROM:-0800
TZOFFSETTO:-0700
RDATE:20240310T020000
TZNAME:PDT
END:DAYLIGHT
END:VTIMEZONE
BEGIN:VEVENT
UID:5k97ia12472u65336268gthg0u@google.com
DTSTAMP:20230811T103655Z
CATEGORIES;LANGUAGE=en-US:Seattle Neighborhood Greenways
CONTACT:
DESCRIPTION:<p><u></u><u></u><u></u><u></u><u></u>Join us and learn about h
 ow to get involved with Seattle Neighborhood Greenways!<br /><b><br /></b>
 </p>\n<p><b>Wednesday\, September 20\, 5:30 – 6:30 pm – virtually via Zoom
 </b>.<br /><span>Zoom link will be posted here.<br /></span><br />RSVP on 
 <a href='https://www.facebook.com/events/838146634106802'>Facebook here</a
 ><br />or to Clara@SeattleGreenways.org</p>\n<p><u></u><br /><u></u>Join u
 s and learn about how to get involved with Seattle Neighborhood Greenways!
 <u></u><u></u><u></u><br /><u></u><u></u><br /><u></u>Seattle Neighborhood
  Greenways is powered by people like you who work to make our streets safe
 r\, more comfortable\, and more accessible for people of every age\, langu
 age\, ethnicity\, gender\, race\, ability\, and income. Learn more about o
 ur work to remove police from traffic enforcement\, end traffic deaths and
  serious injuries\, or prioritizing open streets for people.<u></u></p>\n<
 p><u></u>We want all neighborhoods great places to walk\, bike and live — 
 and we need YOU to help make this happen. Our volunteer-led neighborhood g
 roups across the city offer do-it-yourself advocacy opportunities\, commun
 ity-building events\, leadership development\, and more.<u></u><br /><u></
 u><br />Come learn about the Seattle Neighborhood Greenways coalition\, ou
 r local neighborhood groups\, and best practices for being an effective ad
 vocate in your neighborhood.<u></u><br /><u></u></p>\n<p>– – –<br /><u></u
 ><br /><u></u><br /><u></u>This event is catered to new folks\, but our re
 gular volunteers are welcome and encouraged to join.<u></u><br /><u></u><b
 r /><u></u><br /><u></u>– – –<u></u><br /><u></u><br /><u></u><br /><u></u
 >Questions? Contact Clara Cantor: <a href='mailto:clara@seattlegreenways.o
 rg'><u>clara@seattlegreenways.org</u></a><u></u><br /><u></u><u></u><br />
 <u></u><u></u><br />– – –<u><br /></u></p>\n<div class='sharedaddy sd-shar
 ing-enabled'><div class='robots-nocontent sd-block sd-social sd-social-ico
 n-text sd-sharing'><h3 class='sd-title'>Share</h3><div class='sd-content'>
 <ul><li class='share-mastodon'><a rel='nofollow noopener noreferrer' data-
 shared='sharing-mastodon-505665' class='share-mastodon sd-button share-ico
 n' href='https://www.seattlebikeblog.com/2023/08/10/cpsc-should-eliminate-
 outdated-child-coaster-brake-mandate/?share=mastodon' target='_blank' titl
 e='Click to share on Mastodon' ><span>Mastodon</span></a></li><li class='s
 hare-twitter'><a rel='nofollow noopener noreferrer' data-shared='sharing-t
 witter-505665' class='share-twitter sd-button share-icon' href='https://ww
 w.seattlebikeblog.com/2023/08/10/cpsc-should-eliminate-outdated-child-coas
 ter-brake-mandate/?share=twitter' target='_blank' title='Click to share on
  Twitter' ><span>Twitter</span></a></li><li class='share-facebook'><a rel=
 'nofollow noopener noreferrer' data-shared='sharing-facebook-505665' class
 ='share-facebook sd-button share-icon' href='https://www.seattlebikeblog.c
 om/2023/08/10/cpsc-should-eliminate-outdated-child-coaster-brake-mandate/?
 share=facebook' target='_blank' title='Click to share on Facebook' ><span>
 Facebook</span></a></li><li class='share-reddit'><a rel='nofollow noopener
  noreferrer' data-shared='' class='share-reddit sd-button share-icon' href
 ='https://www.seattlebikeblog.com/2023/08/10/cpsc-should-eliminate-outdate
 d-child-coaster-brake-mandate/?share=reddit' target='_blank' title='Click 
 to share on Reddit' ><span>Reddit</span></a></li><li class='share-email'><
 a rel='nofollow noopener noreferrer' data-shared='' class='share-email sd-
 button share-icon' href='mailto:?subject=%5BShared%20Post%5D%20CPSC%20shou
 ld%20eliminate%20outdated%20child%20coaster%20brake%20mandate&body=https%3
 A%2F%2Fwww.seattlebikeblog.com%2F2023%2F08%2F10%2Fcpsc-should-eliminate-ou
 tdated-child-coaster-brake-mandate%2F&share=email' target='_blank' title='
 Click to email a link to a friend' data-email-share-error-title='Do you ha
 ve email set up?' data-email-share-error-text='If you're having problems s
 haring via email\, you might not have email set up for your browser. You m
 ay need to create a new email yourself.' data-email-share-nonce='fa8e82c0d
 d' data-email-share-track-url='https://www.seattlebikeblog.com/2023/08/10/
 cpsc-should-eliminate-outdated-child-coaster-brake-mandate/?share=email'><
 span>Email</span></a></li><li class='share-end'></li></ul></div></div></di
 v>
DTSTART;TZID=America/Los_Angeles:20230920T173000
DTEND;TZID=America/Los_Angeles:20230920T183000
SEQUENCE:0
SUMMARY:SNG New Volunteer Orientation
URL:https://www.seattlebikeblog.com/event/sng-new-volunteer-orientation-9/
END:VEVENT
END:VCALENDAR
