BEGIN:VCALENDAR
VERSION:2.0
PRODID:-//172.67.130.121//NONSGML kigkonsult.se iCalcreator 2.26.9//
CALSCALE:GREGORIAN
METHOD:PUBLISH
X-WR-CALNAME:Seattle Bike Blog
X-WR-CALDESC:
X-FROM-URL:https://www.seattlebikeblog.com
X-WR-TIMEZONE:America/Los_Angeles
BEGIN:VTIMEZONE
TZID:America/Los_Angeles
X-LIC-LOCATION:America/Los_Angeles
BEGIN:STANDARD
DTSTART:20231105T020000
TZOFFSETFROM:-0700
TZOFFSETTO:-0800
RDATE:20241103T020000
TZNAME:PST
END:STANDARD
BEGIN:DAYLIGHT
DTSTART:20230312T020000
TZOFFSETFROM:-0800
TZOFFSETTO:-0700
RDATE:20240310T020000
TZNAME:PDT
END:DAYLIGHT
END:VTIMEZONE
BEGIN:VEVENT
UID:20230801T183000-_8gqj0gq170q4ab9p8os46b9k85334ba168rjib9g8oo42ea48cq44g
 pj74_R20220504T013000@google.com
DTSTAMP:20230811T171249Z
CATEGORIES;LANGUAGE=en-US:Seattle Neighborhood Greenways
CONTACT:mailto:lt0lmiorecihqc99od0hnrtl54@group.calendar.google.com
DESCRIPTION:We will hold our August meeting on Tuesday the 8th at 6:30pm. 
 \nHigh Point Neighborhood House\, 6400 Sylvan Way SW. The outside doors mu
 st remain locked so please wave from the patio on the northwest side of th
 e building.\nShareMastodonTwitterFacebookRedditEmail
DTSTART;TZID=America/Los_Angeles:20230808T183000
DTEND;TZID=America/Los_Angeles:20230808T200000
LOCATION:High Point Neighborhood House\, 6400 Sylvan Way SW
SEQUENCE:0
SUMMARY:West Seattle Bike Connections monthly meeting
URL:https://www.seattlebikeblog.com/event/west-seattle-bike-connections-mon
 thly-meeting-36/
X-ALT-DESC;FMTTYPE=text/html:<!DOCTYPE HTML PUBLIC '-//W3C//DTD HTML 3.2//E
 N'>\\n<HTML>\\n<HEAD>\\n<TITLE></TITLE>\\n</HEAD>\\n<BODY><p>We will hold 
 our August meeting on Tuesday the 8th at 6:30pm. </p>\n<p>High Point Neigh
 borhood House\, 6400 Sylvan Way SW. The outside doors must remain locked s
 o please wave from the patio on the northwest side of the building.</p>\n<
 div class='sharedaddy sd-sharing-enabled'><div class='robots-nocontent sd-
 block sd-social sd-social-icon-text sd-sharing'><h3 class='sd-title'>Share
 </h3><div class='sd-content'><ul><li class='share-mastodon'><a rel='nofoll
 ow noopener noreferrer' data-shared='sharing-mastodon-505665' class='share
 -mastodon sd-button share-icon' href='https://www.seattlebikeblog.com/2023
 /08/10/cpsc-should-eliminate-outdated-child-coaster-brake-mandate/?share=m
 astodon' target='_blank' title='Click to share on Mastodon' ><span>Mastodo
 n</span></a></li><li class='share-twitter'><a rel='nofollow noopener noref
 errer' data-shared='sharing-twitter-505665' class='share-twitter sd-button
  share-icon' href='https://www.seattlebikeblog.com/2023/08/10/cpsc-should-
 eliminate-outdated-child-coaster-brake-mandate/?share=twitter' target='_bl
 ank' title='Click to share on Twitter' ><span>Twitter</span></a></li><li c
 lass='share-facebook'><a rel='nofollow noopener noreferrer' data-shared='s
 haring-facebook-505665' class='share-facebook sd-button share-icon' href='
 https://www.seattlebikeblog.com/2023/08/10/cpsc-should-eliminate-outdated-
 child-coaster-brake-mandate/?share=facebook' target='_blank' title='Click 
 to share on Facebook' ><span>Facebook</span></a></li><li class='share-redd
 it'><a rel='nofollow noopener noreferrer' data-shared='' class='share-redd
 it sd-button share-icon' href='https://www.seattlebikeblog.com/2023/08/10/
 cpsc-should-eliminate-outdated-child-coaster-brake-mandate/?share=reddit' 
 target='_blank' title='Click to share on Reddit' ><span>Reddit</span></a><
 /li><li class='share-email'><a rel='nofollow noopener noreferrer' data-sha
 red='' class='share-email sd-button share-icon' href='mailto:?subject=%5BS
 hared%20Post%5D%20CPSC%20should%20eliminate%20outdated%20child%20coaster%2
 0brake%20mandate&body=https%3A%2F%2Fwww.seattlebikeblog.com%2F2023%2F08%2F
 10%2Fcpsc-should-eliminate-outdated-child-coaster-brake-mandate%2F&share=e
 mail' target='_blank' title='Click to email a link to a friend' data-email
 -share-error-title='Do you have email set up?' data-email-share-error-text
 ='If you're having problems sharing via email\, you might not have email s
 et up for your browser. You may need to create a new email yourself.' data
 -email-share-nonce='751dd8b6c2' data-email-share-track-url='https://www.se
 attlebikeblog.com/2023/08/10/cpsc-should-eliminate-outdated-child-coaster-
 brake-mandate/?share=email'><span>Email</span></a></li><li class='share-en
 d'></li></ul></div></div></div></BODY></HTML>
END:VEVENT
END:VCALENDAR
