BEGIN:VCALENDAR
VERSION:2.0
PRODID:-//172.67.130.121//NONSGML kigkonsult.se iCalcreator 2.26.9//
CALSCALE:GREGORIAN
METHOD:PUBLISH
X-WR-CALNAME:Seattle Bike Blog
X-WR-CALDESC:
X-FROM-URL:https://www.seattlebikeblog.com
X-WR-TIMEZONE:America/Los_Angeles
BEGIN:VTIMEZONE
TZID:America/Los_Angeles
X-LIC-LOCATION:America/Los_Angeles
BEGIN:STANDARD
DTSTART:20231105T020000
TZOFFSETFROM:-0700
TZOFFSETTO:-0800
RDATE:20241103T020000
TZNAME:PST
END:STANDARD
BEGIN:DAYLIGHT
DTSTART:20230312T020000
TZOFFSETFROM:-0800
TZOFFSETTO:-0700
RDATE:20240310T020000
TZNAME:PDT
END:DAYLIGHT
END:VTIMEZONE
BEGIN:VEVENT
UID:3dbdr32gqulrj4na1dr2mlqro0@google.com
DTSTAMP:20230811T171236Z
CATEGORIES;LANGUAGE=en-US:Seattle Neighborhood Greenways
CONTACT:
DESCRIPTION:Hi Street Fixers\,\nIt’s been a minute since we had an event! I
  wanted to try something new by having a dinnertime fix while we still hav
 e evening light.\nTuesday\, August 8th at 6:15pm we’ll be clearing overgro
 wth from the sidewalk near bus stop 2980 at 25th Ave and E Union St. I’ve 
 attached pictures of the vegetation and a wide shot of the area. There are
  worse overgrowth issues around town\, however\, this one has (in my estim
 ation) a decently high volume of pedestrian traffic and can be completed r
 elatively quickly.\nThe goals for the project are:\n– Trim or mow the plan
 ting strip\n– Trim the plants on the fence line\n– Edge or shovel out smal
 l parts of the sidewalk that are covered\nPlease let me know if you plan o
 n attending so I can have a sense of how many volunteers/sets of tools we’
 ll have in a week’s time.\nThanks so much!Conrad\nKeep up with Seattle Str
 eet Fixers here: https://twitter.com/SEAStreetFixers\nShareMastodonTwitter
 FacebookRedditEmail
DTSTART;TZID=America/Los_Angeles:20230808T181500
DTEND;TZID=America/Los_Angeles:20230808T191500
LOCATION:25th Ave E and E Union St
SEQUENCE:0
SUMMARY:Seattle Street Fixers: 25th Ave E & E Union St
URL:https://www.seattlebikeblog.com/event/seattle-street-fixers-25th-ave-e-
 e-union-st/
X-ALT-DESC;FMTTYPE=text/html:<!DOCTYPE HTML PUBLIC '-//W3C//DTD HTML 3.2//E
 N'>\\n<HTML>\\n<HEAD>\\n<TITLE></TITLE>\\n</HEAD>\\n<BODY><p>Hi Street Fix
 ers\,</p>\n<p>It’s been a minute since we had an event! I wanted to try so
 mething new by having a dinnertime fix while we still have evening light.<
 /p>\n<p><u>Tuesday\, August 8th at 6:15pm</u> we’ll be clearing overgrowth
  from the sidewalk near <a href='https://www.google.com/maps/place/E+Union
 +St+%26+25th+Ave/@47.612912\,-122.2999111\,19z/data=!4m6!3m5!1s0x54906ad75
 8720133:0x2830a9c3cd06aa70!8m2!3d47.61301!4d-122.3004601!16s%2Fg%2F1vp6zwx
 l?entry=ttu'>bus stop 2980 at 25th Ave and E Union St</a>. I’ve attached p
 ictures of the vegetation and a wide shot of the area. There are worse ove
 rgrowth issues around town\, however\, this one has (in my estimation) a d
 ecently high volume of pedestrian traffic and can be completed relatively 
 quickly.</p>\n<p>The goals for the project are:</p>\n<p>– Trim or mow the 
 planting strip</p>\n<p>– Trim the plants on the fence line</p>\n<p>– Edge 
 or shovel out small parts of the sidewalk that are covered</p>\n<p>Please 
 let me know if you plan on attending so I can have a sense of how many vol
 unteers/sets of tools we’ll have in a week’s time.</p>\n<p>Thanks so much!
 <br />Conrad</p>\n<p>Keep up with Seattle Street Fixers here: <a href='htt
 ps://twitter.com/SEAStreetFixers'>https://twitter.com/SEAStreetFixers</a><
 /p>\n<div class='sharedaddy sd-sharing-enabled'><div class='robots-noconte
 nt sd-block sd-social sd-social-icon-text sd-sharing'><h3 class='sd-title'
 >Share</h3><div class='sd-content'><ul><li class='share-mastodon'><a rel='
 nofollow noopener noreferrer' data-shared='sharing-mastodon-505665' class=
 'share-mastodon sd-button share-icon' href='https://www.seattlebikeblog.co
 m/2023/08/10/cpsc-should-eliminate-outdated-child-coaster-brake-mandate/?s
 hare=mastodon' target='_blank' title='Click to share on Mastodon' ><span>M
 astodon</span></a></li><li class='share-twitter'><a rel='nofollow noopener
  noreferrer' data-shared='sharing-twitter-505665' class='share-twitter sd-
 button share-icon' href='https://www.seattlebikeblog.com/2023/08/10/cpsc-s
 hould-eliminate-outdated-child-coaster-brake-mandate/?share=twitter' targe
 t='_blank' title='Click to share on Twitter' ><span>Twitter</span></a></li
 ><li class='share-facebook'><a rel='nofollow noopener noreferrer' data-sha
 red='sharing-facebook-505665' class='share-facebook sd-button share-icon' 
 href='https://www.seattlebikeblog.com/2023/08/10/cpsc-should-eliminate-out
 dated-child-coaster-brake-mandate/?share=facebook' target='_blank' title='
 Click to share on Facebook' ><span>Facebook</span></a></li><li class='shar
 e-reddit'><a rel='nofollow noopener noreferrer' data-shared='' class='shar
 e-reddit sd-button share-icon' href='https://www.seattlebikeblog.com/2023/
 08/10/cpsc-should-eliminate-outdated-child-coaster-brake-mandate/?share=re
 ddit' target='_blank' title='Click to share on Reddit' ><span>Reddit</span
 ></a></li><li class='share-email'><a rel='nofollow noopener noreferrer' da
 ta-shared='' class='share-email sd-button share-icon' href='mailto:?subjec
 t=%5BShared%20Post%5D%20CPSC%20should%20eliminate%20outdated%20child%20coa
 ster%20brake%20mandate&body=https%3A%2F%2Fwww.seattlebikeblog.com%2F2023%2
 F08%2F10%2Fcpsc-should-eliminate-outdated-child-coaster-brake-mandate%2F&s
 hare=email' target='_blank' title='Click to email a link to a friend' data
 -email-share-error-title='Do you have email set up?' data-email-share-erro
 r-text='If you're having problems sharing via email\, you might not have e
 mail set up for your browser. You may need to create a new email yourself.
 ' data-email-share-nonce='751dd8b6c2' data-email-share-track-url='https://
 www.seattlebikeblog.com/2023/08/10/cpsc-should-eliminate-outdated-child-co
 aster-brake-mandate/?share=email'><span>Email</span></a></li><li class='sh
 are-end'></li></ul></div></div></div></BODY></HTML>
END:VEVENT
END:VCALENDAR
