BEGIN:VCALENDAR
VERSION:2.0
PRODID:-//172.67.130.121//NONSGML kigkonsult.se iCalcreator 2.26.9//
CALSCALE:GREGORIAN
METHOD:PUBLISH
X-WR-CALNAME:Seattle Bike Blog
X-WR-CALDESC:
X-FROM-URL:https://www.seattlebikeblog.com
X-WR-TIMEZONE:America/Los_Angeles
BEGIN:VTIMEZONE
TZID:America/Los_Angeles
X-LIC-LOCATION:America/Los_Angeles
BEGIN:STANDARD
DTSTART:20231105T020000
TZOFFSETFROM:-0700
TZOFFSETTO:-0800
RDATE:20241103T020000
TZNAME:PST
END:STANDARD
BEGIN:DAYLIGHT
DTSTART:20230312T020000
TZOFFSETFROM:-0800
TZOFFSETTO:-0700
RDATE:20240310T020000
TZNAME:PDT
END:DAYLIGHT
END:VTIMEZONE
BEGIN:VEVENT
UID:ai1ec-505366@www.seattlebikeblog.com
DTSTAMP:20230811T171217Z
CATEGORIES:
CONTACT:
DESCRIPTION:Come and Join for this year’s day bike ride. We are meeting up 
 at gas works park at 12pm to paint our bodies or decorate our bikes or bot
 h.\nShareMastodonTwitterFacebookRedditEmail
DTSTART;TZID=America/Los_Angeles:20230709T120000
GEO:+47.645631;-122.334353
LOCATION:World Naked Bike Ride @ Gas Works Park\, 2101 N Northlake Way\, Se
 attle\, WA 98103\, USA
SEQUENCE:0
SUMMARY:World Naked Bike Ride Day Ride
URL:https://www.seattlebikeblog.com/event/world-naked-bike-ride-day-ride/
X-COST-TYPE:free
X-ALT-DESC;FMTTYPE=text/html:<!DOCTYPE HTML PUBLIC '-//W3C//DTD HTML 3.2//E
 N'>\\n<HTML>\\n<HEAD>\\n<TITLE></TITLE>\\n</HEAD>\\n<BODY><p>Come and Join
  for this year’s day bike ride. We are meeting up at gas works park at 12p
 m to paint our bodies or decorate our bikes or both.</p>\n<div class='shar
 edaddy sd-sharing-enabled'><div class='robots-nocontent sd-block sd-social
  sd-social-icon-text sd-sharing'><h3 class='sd-title'>Share</h3><div class
 ='sd-content'><ul><li class='share-mastodon'><a rel='nofollow noopener nor
 eferrer' data-shared='sharing-mastodon-505665' class='share-mastodon sd-bu
 tton share-icon' href='https://www.seattlebikeblog.com/2023/08/10/cpsc-sho
 uld-eliminate-outdated-child-coaster-brake-mandate/?share=mastodon' target
 ='_blank' title='Click to share on Mastodon' ><span>Mastodon</span></a></l
 i><li class='share-twitter'><a rel='nofollow noopener noreferrer' data-sha
 red='sharing-twitter-505665' class='share-twitter sd-button share-icon' hr
 ef='https://www.seattlebikeblog.com/2023/08/10/cpsc-should-eliminate-outda
 ted-child-coaster-brake-mandate/?share=twitter' target='_blank' title='Cli
 ck to share on Twitter' ><span>Twitter</span></a></li><li class='share-fac
 ebook'><a rel='nofollow noopener noreferrer' data-shared='sharing-facebook
 -505665' class='share-facebook sd-button share-icon' href='https://www.sea
 ttlebikeblog.com/2023/08/10/cpsc-should-eliminate-outdated-child-coaster-b
 rake-mandate/?share=facebook' target='_blank' title='Click to share on Fac
 ebook' ><span>Facebook</span></a></li><li class='share-reddit'><a rel='nof
 ollow noopener noreferrer' data-shared='' class='share-reddit sd-button sh
 are-icon' href='https://www.seattlebikeblog.com/2023/08/10/cpsc-should-eli
 minate-outdated-child-coaster-brake-mandate/?share=reddit' target='_blank'
  title='Click to share on Reddit' ><span>Reddit</span></a></li><li class='
 share-email'><a rel='nofollow noopener noreferrer' data-shared='' class='s
 hare-email sd-button share-icon' href='mailto:?subject=%5BShared%20Post%5D
 %20CPSC%20should%20eliminate%20outdated%20child%20coaster%20brake%20mandat
 e&body=https%3A%2F%2Fwww.seattlebikeblog.com%2F2023%2F08%2F10%2Fcpsc-shoul
 d-eliminate-outdated-child-coaster-brake-mandate%2F&share=email' target='_
 blank' title='Click to email a link to a friend' data-email-share-error-ti
 tle='Do you have email set up?' data-email-share-error-text='If you're hav
 ing problems sharing via email\, you might not have email set up for your 
 browser. You may need to create a new email yourself.' data-email-share-no
 nce='751dd8b6c2' data-email-share-track-url='https://www.seattlebikeblog.c
 om/2023/08/10/cpsc-should-eliminate-outdated-child-coaster-brake-mandate/?
 share=email'><span>Email</span></a></li><li class='share-end'></li></ul></
 div></div></div></BODY></HTML>
X-INSTANT-EVENT:1
END:VEVENT
END:VCALENDAR
