BEGIN:VCALENDAR
VERSION:2.0
PRODID:-//172.67.130.121//NONSGML kigkonsult.se iCalcreator 2.26.9//
CALSCALE:GREGORIAN
METHOD:PUBLISH
X-WR-CALNAME:Seattle Bike Blog
X-WR-CALDESC:
X-FROM-URL:https://www.seattlebikeblog.com
X-WR-TIMEZONE:America/Los_Angeles
BEGIN:VTIMEZONE
TZID:America/Los_Angeles
X-LIC-LOCATION:America/Los_Angeles
BEGIN:STANDARD
DTSTART:20231105T020000
TZOFFSETFROM:-0700
TZOFFSETTO:-0800
RDATE:20241103T020000
TZNAME:PST
END:STANDARD
BEGIN:DAYLIGHT
DTSTART:20230312T020000
TZOFFSETFROM:-0800
TZOFFSETTO:-0700
RDATE:20240310T020000
TZNAME:PDT
END:DAYLIGHT
END:VTIMEZONE
BEGIN:VEVENT
UID:p7ihg6b563rbtnrmgjn2c4s53o_R20230621T010000@google.com
DTSTAMP:20230811T071058Z
CATEGORIES;LANGUAGE=en-US:Seattle Neighborhood Greenways
CONTACT:
DESCRIPTION:Joint meeting between Rainier Valley Greenways & Beacon Hill Sa
 fe Streets.\nShareMastodonTwitterFacebookRedditEmail
DTSTART;TZID=America/Los_Angeles:20230620T180000
DTEND;TZID=America/Los_Angeles:20230620T193000
LOCATION:Virtual via Zoom
RRULE:FREQ=MONTHLY;BYDAY=3TU
SEQUENCE:0
SUMMARY:South Seattle Safe Streets Coalition Monthly Meeting
URL:https://www.seattlebikeblog.com/event/south-seattle-safe-streets-coalit
 ion-monthly-meeting/
X-ALT-DESC;FMTTYPE=text/html:<!DOCTYPE HTML PUBLIC '-//W3C//DTD HTML 3.2//E
 N'>\\n<HTML>\\n<HEAD>\\n<TITLE></TITLE>\\n</HEAD>\\n<BODY><p>Joint meeting
  between Rainier Valley Greenways & Beacon Hill Safe Streets.</p>\n<div cl
 ass='sharedaddy sd-sharing-enabled'><div class='robots-nocontent sd-block 
 sd-social sd-social-icon-text sd-sharing'><h3 class='sd-title'>Share</h3><
 div class='sd-content'><ul><li class='share-mastodon'><a rel='nofollow noo
 pener noreferrer' data-shared='sharing-mastodon-505665' class='share-masto
 don sd-button share-icon' href='https://www.seattlebikeblog.com/2023/08/10
 /cpsc-should-eliminate-outdated-child-coaster-brake-mandate/?share=mastodo
 n' target='_blank' title='Click to share on Mastodon' ><span>Mastodon</spa
 n></a></li><li class='share-twitter'><a rel='nofollow noopener noreferrer'
  data-shared='sharing-twitter-505665' class='share-twitter sd-button share
 -icon' href='https://www.seattlebikeblog.com/2023/08/10/cpsc-should-elimin
 ate-outdated-child-coaster-brake-mandate/?share=twitter' target='_blank' t
 itle='Click to share on Twitter' ><span>Twitter</span></a></li><li class='
 share-facebook'><a rel='nofollow noopener noreferrer' data-shared='sharing
 -facebook-505665' class='share-facebook sd-button share-icon' href='https:
 //www.seattlebikeblog.com/2023/08/10/cpsc-should-eliminate-outdated-child-
 coaster-brake-mandate/?share=facebook' target='_blank' title='Click to sha
 re on Facebook' ><span>Facebook</span></a></li><li class='share-reddit'><a
  rel='nofollow noopener noreferrer' data-shared='' class='share-reddit sd-
 button share-icon' href='https://www.seattlebikeblog.com/2023/08/10/cpsc-s
 hould-eliminate-outdated-child-coaster-brake-mandate/?share=reddit' target
 ='_blank' title='Click to share on Reddit' ><span>Reddit</span></a></li><l
 i class='share-email'><a rel='nofollow noopener noreferrer' data-shared=''
  class='share-email sd-button share-icon' href='mailto:?subject=%5BShared%
 20Post%5D%20CPSC%20should%20eliminate%20outdated%20child%20coaster%20brake
 %20mandate&body=https%3A%2F%2Fwww.seattlebikeblog.com%2F2023%2F08%2F10%2Fc
 psc-should-eliminate-outdated-child-coaster-brake-mandate%2F&share=email' 
 target='_blank' title='Click to email a link to a friend' data-email-share
 -error-title='Do you have email set up?' data-email-share-error-text='If y
 ou're having problems sharing via email\, you might not have email set up 
 for your browser. You may need to create a new email yourself.' data-email
 -share-nonce='fa8e82c0dd' data-email-share-track-url='https://www.seattleb
 ikeblog.com/2023/08/10/cpsc-should-eliminate-outdated-child-coaster-brake-
 mandate/?share=email'><span>Email</span></a></li><li class='share-end'></l
 i></ul></div></div></div></BODY></HTML>
END:VEVENT
END:VCALENDAR
