BEGIN:VCALENDAR
VERSION:2.0
PRODID:-//172.67.130.121//NONSGML kigkonsult.se iCalcreator 2.26.9//
CALSCALE:GREGORIAN
METHOD:PUBLISH
X-WR-CALNAME:Seattle Bike Blog
X-WR-CALDESC:
X-FROM-URL:https://www.seattlebikeblog.com
X-WR-TIMEZONE:America/Los_Angeles
BEGIN:VTIMEZONE
TZID:America/Los_Angeles
X-LIC-LOCATION:America/Los_Angeles
BEGIN:STANDARD
DTSTART:20231105T020000
TZOFFSETFROM:-0700
TZOFFSETTO:-0800
RDATE:20241103T020000
TZNAME:PST
END:STANDARD
BEGIN:DAYLIGHT
DTSTART:20230312T020000
TZOFFSETFROM:-0800
TZOFFSETTO:-0700
RDATE:20240310T020000
TZNAME:PDT
END:DAYLIGHT
END:VTIMEZONE
BEGIN:VEVENT
UID:ai1ec-505150@www.seattlebikeblog.com
DTSTAMP:20230811T171240Z
CATEGORIES:
CONTACT:West Seattle Bike Connections\; westseattlebikeconnections@gmail.co
 m\; http://westseattlebikeconnections.org
DESCRIPTION:Have you ever wanted to do the Seattle-to-Portland bike ride? A
 nd forgot to sign up? or train? Here is your big chance! Do it in 2 hours!
  Same weekend as Cascade’s big STP\, so you can brag and post pix like the
  other one-day riders. Join West Seattle Bike Connections on a Cascade Bic
 ycle Club free group ride starting at Hamilton Viewpoint Park. We will be 
 riding from SW Seattle Street to SW Portland Street\, and back north to Su
 mmerfest at the West Seattle Junction\, for a fabulous finish line party. 
 After an hour or two there\, participants can ride home independently\, or
  ride with a leader back to the start. 10 mile somewhat hilly route at a l
 eisurely pace. We invite and welcome everyone including people of all ages
 \, languages\, ethnicities\, genders\, races\, and abilities.\nOnline regi
 stration is required and is free.\nSee more information and register at ht
 tps://cascade.org/node/81260.\nShareMastodonTwitterFacebookRedditEmailTick
 ets: https://cascade.org/node/81260.
DTSTART;TZID=America/Los_Angeles:20230716T091500
GEO:+47.593052;-122.385885
LOCATION:Hamilton Viewpoint Park @ 1120 California Way SW\, Seattle\, WA 98
 116\, USA
SEQUENCE:0
SUMMARY:West Seattle Little STP
URL:https://www.seattlebikeblog.com/event/west-seattle-little-stp-2/
X-COST-TYPE:external
X-ALT-DESC;FMTTYPE=text/html:<!DOCTYPE HTML PUBLIC '-//W3C//DTD HTML 3.2//E
 N'>\\n<HTML>\\n<HEAD>\\n<TITLE></TITLE>\\n</HEAD>\\n<BODY><p>Have you ever
  wanted to do the Seattle-to-Portland bike ride? And forgot to sign up? or
  train? Here is your big chance! Do it in 2 hours! Same weekend as Cascade
 ’s big STP\, so you can brag and post pix like the other one-day riders. J
 oin West Seattle Bike Connections on a Cascade Bicycle Club free group rid
 e starting at Hamilton Viewpoint Park. We will be riding from SW Seattle S
 treet to SW Portland Street\, and back north to Summerfest at the West Sea
 ttle Junction\, for a fabulous finish line party. After an hour or two the
 re\, participants can ride home independently\, or ride with a leader back
  to the start. 10 mile somewhat hilly route at a leisurely pace. We invite
  and welcome everyone including people of all ages\, languages\, ethniciti
 es\, genders\, races\, and abilities.</p>\n<p>Online registration is requi
 red and is free.<br />\nSee more information and register at https://casca
 de.org/node/81260.</p>\n<div class='sharedaddy sd-sharing-enabled'><div cl
 ass='robots-nocontent sd-block sd-social sd-social-icon-text sd-sharing'><
 h3 class='sd-title'>Share</h3><div class='sd-content'><ul><li class='share
 -mastodon'><a rel='nofollow noopener noreferrer' data-shared='sharing-mast
 odon-505665' class='share-mastodon sd-button share-icon' href='https://www
 .seattlebikeblog.com/2023/08/10/cpsc-should-eliminate-outdated-child-coast
 er-brake-mandate/?share=mastodon' target='_blank' title='Click to share on
  Mastodon' ><span>Mastodon</span></a></li><li class='share-twitter'><a rel
 ='nofollow noopener noreferrer' data-shared='sharing-twitter-505665' class
 ='share-twitter sd-button share-icon' href='https://www.seattlebikeblog.co
 m/2023/08/10/cpsc-should-eliminate-outdated-child-coaster-brake-mandate/?s
 hare=twitter' target='_blank' title='Click to share on Twitter' ><span>Twi
 tter</span></a></li><li class='share-facebook'><a rel='nofollow noopener n
 oreferrer' data-shared='sharing-facebook-505665' class='share-facebook sd-
 button share-icon' href='https://www.seattlebikeblog.com/2023/08/10/cpsc-s
 hould-eliminate-outdated-child-coaster-brake-mandate/?share=facebook' targ
 et='_blank' title='Click to share on Facebook' ><span>Facebook</span></a><
 /li><li class='share-reddit'><a rel='nofollow noopener noreferrer' data-sh
 ared='' class='share-reddit sd-button share-icon' href='https://www.seattl
 ebikeblog.com/2023/08/10/cpsc-should-eliminate-outdated-child-coaster-brak
 e-mandate/?share=reddit' target='_blank' title='Click to share on Reddit' 
 ><span>Reddit</span></a></li><li class='share-email'><a rel='nofollow noop
 ener noreferrer' data-shared='' class='share-email sd-button share-icon' h
 ref='mailto:?subject=%5BShared%20Post%5D%20CPSC%20should%20eliminate%20out
 dated%20child%20coaster%20brake%20mandate&body=https%3A%2F%2Fwww.seattlebi
 keblog.com%2F2023%2F08%2F10%2Fcpsc-should-eliminate-outdated-child-coaster
 -brake-mandate%2F&share=email' target='_blank' title='Click to email a lin
 k to a friend' data-email-share-error-title='Do you have email set up?' da
 ta-email-share-error-text='If you're having problems sharing via email\, y
 ou might not have email set up for your browser. You may need to create a 
 new email yourself.' data-email-share-nonce='751dd8b6c2' data-email-share-
 track-url='https://www.seattlebikeblog.com/2023/08/10/cpsc-should-eliminat
 e-outdated-child-coaster-brake-mandate/?share=email'><span>Email</span></a
 ></li><li class='share-end'></li></ul></div></div></div><p>Tickets: <a cla
 ss='ai1ec-ticket-url-exported' href='https://cascade.org/node/81260'>https
 ://cascade.org/node/81260</a>.</p></BODY></HTML>
X-TAGS;LANGUAGE=en-US:Bike Ride\,free group ride\,social ride\,West Seattle
X-TICKETS-URL:https://cascade.org/node/81260
X-INSTANT-EVENT:1
END:VEVENT
END:VCALENDAR
