BEGIN:VCALENDAR
VERSION:2.0
PRODID:-//104.21.3.77//NONSGML kigkonsult.se iCalcreator 2.26.9//
CALSCALE:GREGORIAN
METHOD:PUBLISH
X-WR-CALNAME:Seattle Bike Blog
X-WR-CALDESC:
X-FROM-URL:https://www.seattlebikeblog.com
X-WR-TIMEZONE:America/Los_Angeles
BEGIN:VTIMEZONE
TZID:America/Los_Angeles
X-LIC-LOCATION:America/Los_Angeles
BEGIN:STANDARD
DTSTART:20231105T020000
TZOFFSETFROM:-0700
TZOFFSETTO:-0800
RDATE:20241103T020000
TZNAME:PST
END:STANDARD
BEGIN:DAYLIGHT
DTSTART:20230312T020000
TZOFFSETFROM:-0800
TZOFFSETTO:-0700
RDATE:20240310T020000
TZNAME:PDT
END:DAYLIGHT
END:VTIMEZONE
BEGIN:VEVENT
UID:6411rlkcnr52o9fo0qkf1bv6pq@google.com
DTSTAMP:20230811T071749Z
CATEGORIES;LANGUAGE=en-US:Seattle Neighborhood Greenways
CONTACT:
DESCRIPTION:<p>Join us to celebrate another year of fabulous grassroots com
 munity power! </p>\n<p>See the Facebook Event Here: <a href='https://www.f
 acebook.com/events/10011131432232100'>https://www.facebook.com/events/1001
 1131432232100</a></p>\n<p>Join Seattle Neighborhood Greenways to celebrate
  another year of fabulous grassroots community power! </p>\n<p><span>Sunda
 y\, August 20\, 3:00 pm – 5:30 pm</span><br /><span>Seward Park Picnic She
 lter 1 (next to the playground)</span></p>\n<p> – – – </p>\n<p>EVENT DESCR
 IPTION:</p>\n<p>Drop in to catch up with old friends and neighbors or meet
  and greet with new folks. Learn about local advocacy\, grab some swag or 
 a bike or walking map. We’ll provide some food for the grill\, bring potlu
 ck snacks or sides to contribute if you can. </p>\n<p>All are welcome — yo
 u don’t have to had volunteered with us before to come celebrate!</p>\n<p>
  – – – </p>\n<p>GETTING THERE: <br /><span><br /></span><br /><span>Seward
  Park is located at </span><a href='https://goo.gl/maps/5Cs8Cp5VGeE2'><u><
 u>5900 Lake Washington Blvd. S\, Seattle\, WA 98118</u></u></a>. <span>We 
 will be on the south side of the park at Picnic Shelter 1\, behind the pla
 yground. The area is wheelchair accessible.</span><br /><span><br /></span
 ><br />By Bike: The Lake Washington Boulevard open street that weekend wil
 l make a delightful ride from points north. Stay tuned for more info on gr
 oup bike rides to the event (or lead one yourself!)</p>\n<p>By Transit: Th
 e park is <span>a short (steep) walk from the 50 bus.</span><br /><span><b
 r /></span><br /><span>By Car: The park has free car parking. Note that La
 ke Washington Boulevard will be closed to vehicle traffic that weekend\, a
 nd access the park from Seward Park Ave S.</span></p>\n<p>– – –  </p>\n<p>
 ABOUT US: </p>\n<p>Seattle Neighborhood Greenways is a volunteer-powered\,
  grassroots organization and community. We’re celebrating all of the incre
 dible people who make our coalition and our movement the community that it
  is. </p>\n<p>To learn more\, check out our <a href='https://us8.campaign-
 archive.com/?u=1bab8fcdbb99a44490129dfa8&id=bfdb7fd47f'>2022 year in revie
 w</a><span> or our </span><a href='https://us8.campaign-archive.com/?u=1ba
 b8fcdbb99a44490129dfa8&id=6c79c64ec7'>2023 priorities</a><span>.</span></p
 >\n<div class='sharedaddy sd-sharing-enabled'><div class='robots-nocontent
  sd-block sd-social sd-social-icon-text sd-sharing'><h3 class='sd-title'>S
 hare</h3><div class='sd-content'><ul><li class='share-mastodon'><a rel='no
 follow noopener noreferrer' data-shared='sharing-mastodon-505665' class='s
 hare-mastodon sd-button share-icon' href='https://www.seattlebikeblog.com/
 2023/08/10/cpsc-should-eliminate-outdated-child-coaster-brake-mandate/?sha
 re=mastodon' target='_blank' title='Click to share on Mastodon' ><span>Mas
 todon</span></a></li><li class='share-twitter'><a rel='nofollow noopener n
 oreferrer' data-shared='sharing-twitter-505665' class='share-twitter sd-bu
 tton share-icon' href='https://www.seattlebikeblog.com/2023/08/10/cpsc-sho
 uld-eliminate-outdated-child-coaster-brake-mandate/?share=twitter' target=
 '_blank' title='Click to share on Twitter' ><span>Twitter</span></a></li><
 li class='share-facebook'><a rel='nofollow noopener noreferrer' data-share
 d='sharing-facebook-505665' class='share-facebook sd-button share-icon' hr
 ef='https://www.seattlebikeblog.com/2023/08/10/cpsc-should-eliminate-outda
 ted-child-coaster-brake-mandate/?share=facebook' target='_blank' title='Cl
 ick to share on Facebook' ><span>Facebook</span></a></li><li class='share-
 reddit'><a rel='nofollow noopener noreferrer' data-shared='' class='share-
 reddit sd-button share-icon' href='https://www.seattlebikeblog.com/2023/08
 /10/cpsc-should-eliminate-outdated-child-coaster-brake-mandate/?share=redd
 it' target='_blank' title='Click to share on Reddit' ><span>Reddit</span><
 /a></li><li class='share-email'><a rel='nofollow noopener noreferrer' data
 -shared='' class='share-email sd-button share-icon' href='mailto:?subject=
 %5BShared%20Post%5D%20CPSC%20should%20eliminate%20outdated%20child%20coast
 er%20brake%20mandate&body=https%3A%2F%2Fwww.seattlebikeblog.com%2F2023%2F0
 8%2F10%2Fcpsc-should-eliminate-outdated-child-coaster-brake-mandate%2F&sha
 re=email' target='_blank' title='Click to email a link to a friend' data-e
 mail-share-error-title='Do you have email set up?' data-email-share-error-
 text='If you're having problems sharing via email\, you might not have ema
 il set up for your browser. You may need to create a new email yourself.' 
 data-email-share-nonce='fa8e82c0dd' data-email-share-track-url='https://ww
 w.seattlebikeblog.com/2023/08/10/cpsc-should-eliminate-outdated-child-coas
 ter-brake-mandate/?share=email'><span>Email</span></a></li><li class='shar
 e-end'></li></ul></div></div></div>
DTSTART;TZID=America/Los_Angeles:20230820T150000
DTEND;TZID=America/Los_Angeles:20230820T173000
LOCATION:Seward Park
SEQUENCE:0
SUMMARY:SNG Summer Volunteer Picnic!
URL:https://www.seattlebikeblog.com/event/save-the-date-sng-volunteer-picni
 c/
END:VEVENT
END:VCALENDAR
