BEGIN:VCALENDAR
VERSION:2.0
PRODID:-//172.67.130.121//NONSGML kigkonsult.se iCalcreator 2.26.9//
CALSCALE:GREGORIAN
METHOD:PUBLISH
X-WR-CALNAME:Seattle Bike Blog
X-WR-CALDESC:
X-FROM-URL:https://www.seattlebikeblog.com
X-WR-TIMEZONE:America/Los_Angeles
BEGIN:VTIMEZONE
TZID:America/Los_Angeles
X-LIC-LOCATION:America/Los_Angeles
BEGIN:STANDARD
DTSTART:20231105T020000
TZOFFSETFROM:-0700
TZOFFSETTO:-0800
RDATE:20241103T020000
TZNAME:PST
END:STANDARD
BEGIN:DAYLIGHT
DTSTART:20230312T020000
TZOFFSETFROM:-0800
TZOFFSETTO:-0700
RDATE:20240310T020000
TZNAME:PDT
END:DAYLIGHT
END:VTIMEZONE
BEGIN:VEVENT
UID:5vjp5v2e3n7jel7hrrdj56pn3u@google.com
DTSTAMP:20230811T073505Z
CATEGORIES;LANGUAGE=en-US:Seattle Neighborhood Greenways
CONTACT:
DESCRIPTION:Join us on the evening of September 14 at the Centilia Cultural
  Center on Beacon Hill to explore what it takes to make Seattle a walkable
  city!\nThis is the final event in a 3-part live panel series\, Shaping Se
 attle\, to learn\, connect and activate around key issues impacting our ci
 ty.\nDetails and tickets will be available at seattlegreenways.org/shaping
 seattle.\nShareMastodonTwitterFacebookRedditEmail
DTSTART;TZID=America/Los_Angeles:20230914T180000
DTEND;TZID=America/Los_Angeles:20230914T200000
LOCATION:Centilia Cultural Center\, 1660 S Roberto Maestas Festival St\, Se
 attle\, WA 98144\, USA
SEQUENCE:0
SUMMARY:Building a Walkable City Live Panel Event
URL:https://www.seattlebikeblog.com/event/building-a-walkable-city-live-pan
 el-event/
X-ALT-DESC;FMTTYPE=text/html:<!DOCTYPE HTML PUBLIC '-//W3C//DTD HTML 3.2//E
 N'>\\n<HTML>\\n<HEAD>\\n<TITLE></TITLE>\\n</HEAD>\\n<BODY><p><span><span><
 span><span>Join us on the evening of September 14 at the Centilia Cultural
  Center on Beacon Hill to explore what it takes to make Seattle a walkable
  city!</p>\n<p>This is the final event in a 3-part live panel series\, <i>
 <a href='https://www.seattlegreenways.org/get-involved/calendar/shapingsea
 ttle/'>Shaping Seattle</a></i>\, to </span></span></span></span>learn\, co
 nnect and activate around key issues impacting our city.<span><span><span>
 <span></span></span></span></p>\n<p><span><span><span>Details and tickets 
 will be available at </span></span></span><a href='http://seattlegreenways
 .org/shapingseattle'>seattlegreenways.org/shapingseattle</a>.</span></p>\n
 <div class='sharedaddy sd-sharing-enabled'><div class='robots-nocontent sd
 -block sd-social sd-social-icon-text sd-sharing'><h3 class='sd-title'>Shar
 e</h3><div class='sd-content'><ul><li class='share-mastodon'><a rel='nofol
 low noopener noreferrer' data-shared='sharing-mastodon-505665' class='shar
 e-mastodon sd-button share-icon' href='https://www.seattlebikeblog.com/202
 3/08/10/cpsc-should-eliminate-outdated-child-coaster-brake-mandate/?share=
 mastodon' target='_blank' title='Click to share on Mastodon' ><span>Mastod
 on</span></a></li><li class='share-twitter'><a rel='nofollow noopener nore
 ferrer' data-shared='sharing-twitter-505665' class='share-twitter sd-butto
 n share-icon' href='https://www.seattlebikeblog.com/2023/08/10/cpsc-should
 -eliminate-outdated-child-coaster-brake-mandate/?share=twitter' target='_b
 lank' title='Click to share on Twitter' ><span>Twitter</span></a></li><li 
 class='share-facebook'><a rel='nofollow noopener noreferrer' data-shared='
 sharing-facebook-505665' class='share-facebook sd-button share-icon' href=
 'https://www.seattlebikeblog.com/2023/08/10/cpsc-should-eliminate-outdated
 -child-coaster-brake-mandate/?share=facebook' target='_blank' title='Click
  to share on Facebook' ><span>Facebook</span></a></li><li class='share-red
 dit'><a rel='nofollow noopener noreferrer' data-shared='' class='share-red
 dit sd-button share-icon' href='https://www.seattlebikeblog.com/2023/08/10
 /cpsc-should-eliminate-outdated-child-coaster-brake-mandate/?share=reddit'
  target='_blank' title='Click to share on Reddit' ><span>Reddit</span></a>
 </li><li class='share-email'><a rel='nofollow noopener noreferrer' data-sh
 ared='' class='share-email sd-button share-icon' href='mailto:?subject=%5B
 Shared%20Post%5D%20CPSC%20should%20eliminate%20outdated%20child%20coaster%
 20brake%20mandate&body=https%3A%2F%2Fwww.seattlebikeblog.com%2F2023%2F08%2
 F10%2Fcpsc-should-eliminate-outdated-child-coaster-brake-mandate%2F&share=
 email' target='_blank' title='Click to email a link to a friend' data-emai
 l-share-error-title='Do you have email set up?' data-email-share-error-tex
 t='If you're having problems sharing via email\, you might not have email 
 set up for your browser. You may need to create a new email yourself.' dat
 a-email-share-nonce='fa8e82c0dd' data-email-share-track-url='https://www.s
 eattlebikeblog.com/2023/08/10/cpsc-should-eliminate-outdated-child-coaster
 -brake-mandate/?share=email'><span>Email</span></a></li><li class='share-e
 nd'></li></ul></div></div></div></BODY></HTML>
END:VEVENT
END:VCALENDAR
