BEGIN:VCALENDAR
VERSION:2.0
PRODID:-//104.21.3.77//NONSGML kigkonsult.se iCalcreator 2.26.9//
CALSCALE:GREGORIAN
METHOD:PUBLISH
X-WR-CALNAME:Seattle Bike Blog
X-WR-CALDESC:
X-FROM-URL:https://www.seattlebikeblog.com
X-WR-TIMEZONE:America/Los_Angeles
BEGIN:VTIMEZONE
TZID:America/Los_Angeles
X-LIC-LOCATION:America/Los_Angeles
BEGIN:STANDARD
DTSTART:20231105T020000
TZOFFSETFROM:-0700
TZOFFSETTO:-0800
RDATE:20241103T020000
TZNAME:PST
END:STANDARD
BEGIN:DAYLIGHT
DTSTART:20230312T020000
TZOFFSETFROM:-0800
TZOFFSETTO:-0700
RDATE:20240310T020000
TZNAME:PDT
END:DAYLIGHT
END:VTIMEZONE
BEGIN:VEVENT
UID:27vffvu0bl17cgb937gueupd0f_R20230525T010000@google.com
DTSTAMP:20230811T071609Z
CATEGORIES;LANGUAGE=en-US:Seattle Neighborhood Greenways
CONTACT:
DESCRIPTION:ShareMastodonTwitterFacebookRedditEmail
DTSTART;TZID=America/Los_Angeles:20230524T180000
DTEND;TZID=America/Los_Angeles:20230524T190000
EXDATE;TZID=America/Los_Angeles:20230524T180000
RRULE:FREQ=MONTHLY;BYDAY=4WE
SEQUENCE:0
SUMMARY:NE Seattle Greenways Meeting
URL:https://www.seattlebikeblog.com/event/ne-seattle-greenways-meeting-7/
X-ALT-DESC;FMTTYPE=text/html:<!DOCTYPE HTML PUBLIC '-//W3C//DTD HTML 3.2//E
 N'>\\n<HTML>\\n<HEAD>\\n<TITLE></TITLE>\\n</HEAD>\\n<BODY><div class='shar
 edaddy sd-sharing-enabled'><div class='robots-nocontent sd-block sd-social
  sd-social-icon-text sd-sharing'><h3 class='sd-title'>Share</h3><div class
 ='sd-content'><ul><li class='share-mastodon'><a rel='nofollow noopener nor
 eferrer' data-shared='sharing-mastodon-505665' class='share-mastodon sd-bu
 tton share-icon' href='https://www.seattlebikeblog.com/2023/08/10/cpsc-sho
 uld-eliminate-outdated-child-coaster-brake-mandate/?share=mastodon' target
 ='_blank' title='Click to share on Mastodon' ><span>Mastodon</span></a></l
 i><li class='share-twitter'><a rel='nofollow noopener noreferrer' data-sha
 red='sharing-twitter-505665' class='share-twitter sd-button share-icon' hr
 ef='https://www.seattlebikeblog.com/2023/08/10/cpsc-should-eliminate-outda
 ted-child-coaster-brake-mandate/?share=twitter' target='_blank' title='Cli
 ck to share on Twitter' ><span>Twitter</span></a></li><li class='share-fac
 ebook'><a rel='nofollow noopener noreferrer' data-shared='sharing-facebook
 -505665' class='share-facebook sd-button share-icon' href='https://www.sea
 ttlebikeblog.com/2023/08/10/cpsc-should-eliminate-outdated-child-coaster-b
 rake-mandate/?share=facebook' target='_blank' title='Click to share on Fac
 ebook' ><span>Facebook</span></a></li><li class='share-reddit'><a rel='nof
 ollow noopener noreferrer' data-shared='' class='share-reddit sd-button sh
 are-icon' href='https://www.seattlebikeblog.com/2023/08/10/cpsc-should-eli
 minate-outdated-child-coaster-brake-mandate/?share=reddit' target='_blank'
  title='Click to share on Reddit' ><span>Reddit</span></a></li><li class='
 share-email'><a rel='nofollow noopener noreferrer' data-shared='' class='s
 hare-email sd-button share-icon' href='mailto:?subject=%5BShared%20Post%5D
 %20CPSC%20should%20eliminate%20outdated%20child%20coaster%20brake%20mandat
 e&body=https%3A%2F%2Fwww.seattlebikeblog.com%2F2023%2F08%2F10%2Fcpsc-shoul
 d-eliminate-outdated-child-coaster-brake-mandate%2F&share=email' target='_
 blank' title='Click to email a link to a friend' data-email-share-error-ti
 tle='Do you have email set up?' data-email-share-error-text='If you're hav
 ing problems sharing via email\, you might not have email set up for your 
 browser. You may need to create a new email yourself.' data-email-share-no
 nce='fa8e82c0dd' data-email-share-track-url='https://www.seattlebikeblog.c
 om/2023/08/10/cpsc-should-eliminate-outdated-child-coaster-brake-mandate/?
 share=email'><span>Email</span></a></li><li class='share-end'></li></ul></
 div></div></div></BODY></HTML>
END:VEVENT
END:VCALENDAR
