BEGIN:VCALENDAR
VERSION:2.0
PRODID:-//104.21.3.77//NONSGML kigkonsult.se iCalcreator 2.26.9//
CALSCALE:GREGORIAN
METHOD:PUBLISH
X-WR-CALNAME:Seattle Bike Blog
X-WR-CALDESC:
X-FROM-URL:https://www.seattlebikeblog.com
X-WR-TIMEZONE:America/Los_Angeles
BEGIN:VTIMEZONE
TZID:America/Los_Angeles
X-LIC-LOCATION:America/Los_Angeles
BEGIN:STANDARD
DTSTART:20231105T020000
TZOFFSETFROM:-0700
TZOFFSETTO:-0800
RDATE:20241103T020000
TZNAME:PST
END:STANDARD
BEGIN:DAYLIGHT
DTSTART:20230312T020000
TZOFFSETFROM:-0800
TZOFFSETTO:-0700
RDATE:20240310T020000
TZNAME:PDT
END:DAYLIGHT
END:VTIMEZONE
BEGIN:VEVENT
UID:13m0kln0h8b0n00r5qp65vjgho@google.com
DTSTAMP:20230811T072107Z
CATEGORIES;LANGUAGE=en-US:Seattle Neighborhood Greenways
CONTACT:
DESCRIPTION:<div class='sharedaddy sd-sharing-enabled'><div class='robots-n
 ocontent sd-block sd-social sd-social-icon-text sd-sharing'><h3 class='sd-
 title'>Share</h3><div class='sd-content'><ul><li class='share-mastodon'><a
  rel='nofollow noopener noreferrer' data-shared='sharing-mastodon-505665' 
 class='share-mastodon sd-button share-icon' href='https://www.seattlebikeb
 log.com/2023/08/10/cpsc-should-eliminate-outdated-child-coaster-brake-mand
 ate/?share=mastodon' target='_blank' title='Click to share on Mastodon' ><
 span>Mastodon</span></a></li><li class='share-twitter'><a rel='nofollow no
 opener noreferrer' data-shared='sharing-twitter-505665' class='share-twitt
 er sd-button share-icon' href='https://www.seattlebikeblog.com/2023/08/10/
 cpsc-should-eliminate-outdated-child-coaster-brake-mandate/?share=twitter'
  target='_blank' title='Click to share on Twitter' ><span>Twitter</span></
 a></li><li class='share-facebook'><a rel='nofollow noopener noreferrer' da
 ta-shared='sharing-facebook-505665' class='share-facebook sd-button share-
 icon' href='https://www.seattlebikeblog.com/2023/08/10/cpsc-should-elimina
 te-outdated-child-coaster-brake-mandate/?share=facebook' target='_blank' t
 itle='Click to share on Facebook' ><span>Facebook</span></a></li><li class
 ='share-reddit'><a rel='nofollow noopener noreferrer' data-shared='' class
 ='share-reddit sd-button share-icon' href='https://www.seattlebikeblog.com
 /2023/08/10/cpsc-should-eliminate-outdated-child-coaster-brake-mandate/?sh
 are=reddit' target='_blank' title='Click to share on Reddit' ><span>Reddit
 </span></a></li><li class='share-email'><a rel='nofollow noopener noreferr
 er' data-shared='' class='share-email sd-button share-icon' href='mailto:?
 subject=%5BShared%20Post%5D%20CPSC%20should%20eliminate%20outdated%20child
 %20coaster%20brake%20mandate&body=https%3A%2F%2Fwww.seattlebikeblog.com%2F
 2023%2F08%2F10%2Fcpsc-should-eliminate-outdated-child-coaster-brake-mandat
 e%2F&share=email' target='_blank' title='Click to email a link to a friend
 ' data-email-share-error-title='Do you have email set up?' data-email-shar
 e-error-text='If you're having problems sharing via email\, you might not 
 have email set up for your browser. You may need to create a new email you
 rself.' data-email-share-nonce='fa8e82c0dd' data-email-share-track-url='ht
 tps://www.seattlebikeblog.com/2023/08/10/cpsc-should-eliminate-outdated-ch
 ild-coaster-brake-mandate/?share=email'><span>Email</span></a></li><li cla
 ss='share-end'></li></ul></div></div></div>
DTSTART;TZID=America/Los_Angeles:20230819T100000
DTEND;TZID=America/Los_Angeles:20230820T180000
SEQUENCE:0
SUMMARY:Open Street: Bicycle Weekend on Lake Washington Blvd
URL:https://www.seattlebikeblog.com/event/open-street-bicycle-weekend-on-la
 ke-washington-blvd-2/
END:VEVENT
END:VCALENDAR
