BEGIN:VCALENDAR
VERSION:2.0
PRODID:-//172.67.130.121//NONSGML kigkonsult.se iCalcreator 2.26.9//
CALSCALE:GREGORIAN
METHOD:PUBLISH
X-WR-CALNAME:Seattle Bike Blog
X-WR-CALDESC:
X-FROM-URL:https://www.seattlebikeblog.com
X-WR-TIMEZONE:America/Los_Angeles
BEGIN:VTIMEZONE
TZID:America/Los_Angeles
X-LIC-LOCATION:America/Los_Angeles
BEGIN:STANDARD
DTSTART:20231105T020000
TZOFFSETFROM:-0700
TZOFFSETTO:-0800
RDATE:20241103T020000
TZNAME:PST
END:STANDARD
BEGIN:DAYLIGHT
DTSTART:20230312T020000
TZOFFSETFROM:-0800
TZOFFSETTO:-0700
RDATE:20240310T020000
TZNAME:PDT
END:DAYLIGHT
END:VTIMEZONE
BEGIN:VEVENT
UID:4enuuni0rcpb1veajt09iakv4g@google.com
DTSTAMP:20230811T171233Z
CATEGORIES;LANGUAGE=en-US:Seattle Neighborhood Greenways
CONTACT:
DESCRIPTION:Join us on the evening of July 20 at the Centilia Cultural Cent
 er on Beacon Hill to explore what it takes to achieve mobility justice in 
 our city!\nThis event is the second in a 3-part live panel series\, Shapin
 g Seattle\, to learn\, connect and activate around key issues impacting ou
 r city.\nDetails and tickets will be available at seattlegreenways.org/mob
 ilityjustice.\nShareMastodonTwitterFacebookRedditEmail
DTSTART;TZID=America/Los_Angeles:20230720T180000
DTEND;TZID=America/Los_Angeles:20230720T200000
LOCATION:Centilia Cultural Center\, 1660 S Roberto Maestas Festival St\, Se
 attle\, WA 98144\, USA
SEQUENCE:0
SUMMARY:Mobility Justice Live Panel Event
URL:https://www.seattlebikeblog.com/event/mobility-justice-live-panel-event
 /
X-ALT-DESC;FMTTYPE=text/html:<!DOCTYPE HTML PUBLIC '-//W3C//DTD HTML 3.2//E
 N'>\\n<HTML>\\n<HEAD>\\n<TITLE></TITLE>\\n</HEAD>\\n<BODY><p><span><span><
 span><span>Join us on the evening of July 20 at the Centilia Cultural Cent
 er on Beacon Hill to explore what it takes to achieve mobility justice in 
 our city!</p>\n<p>This event is the second in a 3-part live panel series\,
  <a href='https://www.seattlegreenways.org/get-involved/calendar/shapingse
 attle/'>Shaping Seattle</a>\, to </span></span></span></span>learn\, conne
 ct and activate around key issues impacting our city.<span><span><span><sp
 an></span></span></span></p>\n<p><span><span><span>Details and tickets wil
 l be available at </span></span></span><a href='http://seattlegreenways.or
 g/mobilityjustice'>seattlegreenways.org/mobilityjustice</a>.</span></p>\n<
 div class='sharedaddy sd-sharing-enabled'><div class='robots-nocontent sd-
 block sd-social sd-social-icon-text sd-sharing'><h3 class='sd-title'>Share
 </h3><div class='sd-content'><ul><li class='share-mastodon'><a rel='nofoll
 ow noopener noreferrer' data-shared='sharing-mastodon-505665' class='share
 -mastodon sd-button share-icon' href='https://www.seattlebikeblog.com/2023
 /08/10/cpsc-should-eliminate-outdated-child-coaster-brake-mandate/?share=m
 astodon' target='_blank' title='Click to share on Mastodon' ><span>Mastodo
 n</span></a></li><li class='share-twitter'><a rel='nofollow noopener noref
 errer' data-shared='sharing-twitter-505665' class='share-twitter sd-button
  share-icon' href='https://www.seattlebikeblog.com/2023/08/10/cpsc-should-
 eliminate-outdated-child-coaster-brake-mandate/?share=twitter' target='_bl
 ank' title='Click to share on Twitter' ><span>Twitter</span></a></li><li c
 lass='share-facebook'><a rel='nofollow noopener noreferrer' data-shared='s
 haring-facebook-505665' class='share-facebook sd-button share-icon' href='
 https://www.seattlebikeblog.com/2023/08/10/cpsc-should-eliminate-outdated-
 child-coaster-brake-mandate/?share=facebook' target='_blank' title='Click 
 to share on Facebook' ><span>Facebook</span></a></li><li class='share-redd
 it'><a rel='nofollow noopener noreferrer' data-shared='' class='share-redd
 it sd-button share-icon' href='https://www.seattlebikeblog.com/2023/08/10/
 cpsc-should-eliminate-outdated-child-coaster-brake-mandate/?share=reddit' 
 target='_blank' title='Click to share on Reddit' ><span>Reddit</span></a><
 /li><li class='share-email'><a rel='nofollow noopener noreferrer' data-sha
 red='' class='share-email sd-button share-icon' href='mailto:?subject=%5BS
 hared%20Post%5D%20CPSC%20should%20eliminate%20outdated%20child%20coaster%2
 0brake%20mandate&body=https%3A%2F%2Fwww.seattlebikeblog.com%2F2023%2F08%2F
 10%2Fcpsc-should-eliminate-outdated-child-coaster-brake-mandate%2F&share=e
 mail' target='_blank' title='Click to email a link to a friend' data-email
 -share-error-title='Do you have email set up?' data-email-share-error-text
 ='If you're having problems sharing via email\, you might not have email s
 et up for your browser. You may need to create a new email yourself.' data
 -email-share-nonce='751dd8b6c2' data-email-share-track-url='https://www.se
 attlebikeblog.com/2023/08/10/cpsc-should-eliminate-outdated-child-coaster-
 brake-mandate/?share=email'><span>Email</span></a></li><li class='share-en
 d'></li></ul></div></div></div></BODY></HTML>
END:VEVENT
END:VCALENDAR
