BEGIN:VCALENDAR
VERSION:2.0
PRODID:-//104.21.3.77//NONSGML kigkonsult.se iCalcreator 2.26.9//
CALSCALE:GREGORIAN
METHOD:PUBLISH
X-WR-CALNAME:Seattle Bike Blog
X-WR-CALDESC:
X-FROM-URL:https://www.seattlebikeblog.com
X-WR-TIMEZONE:America/Los_Angeles
BEGIN:VTIMEZONE
TZID:America/Los_Angeles
X-LIC-LOCATION:America/Los_Angeles
BEGIN:STANDARD
DTSTART:20231105T020000
TZOFFSETFROM:-0700
TZOFFSETTO:-0800
RDATE:20241103T020000
TZNAME:PST
END:STANDARD
BEGIN:DAYLIGHT
DTSTART:20230312T020000
TZOFFSETFROM:-0800
TZOFFSETTO:-0700
RDATE:20240310T020000
TZNAME:PDT
END:DAYLIGHT
END:VTIMEZONE
BEGIN:VEVENT
UID:ai1ec-503104@www.seattlebikeblog.com
DTSTAMP:20230811T113904Z
CATEGORIES:
CONTACT:Brooke Wilzen\; 2065123283\; Brooke.Wilzen@Lung.org\; https://actio
 n.lung.org/site/TR/Cycle/ALAMP_Mountain_Pacific?pg=entry&fr_id=23719
DESCRIPTION:<p>Reach the Beach Washington welcomes riders from across the P
 NW on September 30\, 2023 to enjoy a fast and flat century ride starting i
 n Lacey\, WA and ending with a celebration on the beach in Westport\, WA. 
 Riders can choose distance options ranging from 25\, 44\, 77\, or 100 mile
 s.</p>\n<p>This unique and challenging ride\, is the signature event of th
 e American Lung Association and supports our mission to prevent lung disea
 se and help the millions of people who are affected by lung disease in the
  U.S.</p>\n<p>Getting involved as a bike rider or as a fundraiser is a won
 derful way to show your support for someone in your life who has been suff
 ering with a lung disease or in memory of someone loss. Ride on your own o
 r gather your family and friends to ride on a team together!</p>\n<p>See y
 ou at the beach!</p>\n<div class='sharedaddy sd-sharing-enabled'><div clas
 s='robots-nocontent sd-block sd-social sd-social-icon-text sd-sharing'><h3
  class='sd-title'>Share</h3><div class='sd-content'><ul><li class='share-m
 astodon'><a rel='nofollow noopener noreferrer' data-shared='sharing-mastod
 on-505665' class='share-mastodon sd-button share-icon' href='https://www.s
 eattlebikeblog.com/2023/08/10/cpsc-should-eliminate-outdated-child-coaster
 -brake-mandate/?share=mastodon' target='_blank' title='Click to share on M
 astodon' ><span>Mastodon</span></a></li><li class='share-twitter'><a rel='
 nofollow noopener noreferrer' data-shared='sharing-twitter-505665' class='
 share-twitter sd-button share-icon' href='https://www.seattlebikeblog.com/
 2023/08/10/cpsc-should-eliminate-outdated-child-coaster-brake-mandate/?sha
 re=twitter' target='_blank' title='Click to share on Twitter' ><span>Twitt
 er</span></a></li><li class='share-facebook'><a rel='nofollow noopener nor
 eferrer' data-shared='sharing-facebook-505665' class='share-facebook sd-bu
 tton share-icon' href='https://www.seattlebikeblog.com/2023/08/10/cpsc-sho
 uld-eliminate-outdated-child-coaster-brake-mandate/?share=facebook' target
 ='_blank' title='Click to share on Facebook' ><span>Facebook</span></a></l
 i><li class='share-reddit'><a rel='nofollow noopener noreferrer' data-shar
 ed='' class='share-reddit sd-button share-icon' href='https://www.seattleb
 ikeblog.com/2023/08/10/cpsc-should-eliminate-outdated-child-coaster-brake-
 mandate/?share=reddit' target='_blank' title='Click to share on Reddit' ><
 span>Reddit</span></a></li><li class='share-email'><a rel='nofollow noopen
 er noreferrer' data-shared='' class='share-email sd-button share-icon' hre
 f='mailto:?subject=%5BShared%20Post%5D%20CPSC%20should%20eliminate%20outda
 ted%20child%20coaster%20brake%20mandate&body=https%3A%2F%2Fwww.seattlebike
 blog.com%2F2023%2F08%2F10%2Fcpsc-should-eliminate-outdated-child-coaster-b
 rake-mandate%2F&share=email' target='_blank' title='Click to email a link 
 to a friend' data-email-share-error-title='Do you have email set up?' data
 -email-share-error-text='If you're having problems sharing via email\, you
  might not have email set up for your browser. You may need to create a ne
 w email yourself.' data-email-share-nonce='fa8e82c0dd' data-email-share-tr
 ack-url='https://www.seattlebikeblog.com/2023/08/10/cpsc-should-eliminate-
 outdated-child-coaster-brake-mandate/?share=email'><span>Email</span></a><
 /li><li class='share-end'></li></ul></div></div></div><p>Tickets: <a class
 ='ai1ec-ticket-url-exported' href='https://action.lung.org/site/TR?pg=info
 rmational&sid=9151&fr_id=23719'>https://action.lung.org/site/TR?pg=informa
 tional&sid=9151&fr_id=23719</a>.</p>
DTSTART;VALUE=DATE:20230930
DTEND;VALUE=DATE:20231001
GEO:+47.04445;-122.762599
LOCATION:Lacey\, Washington @ 8345 Steilacoom Rd SE\, Olympia\, WA 98513\, 
 USA
SEQUENCE:0
SUMMARY:Reach the Beach Washington Cycle Event
URL:https://www.seattlebikeblog.com/event/reach-the-beach-washington-cycle-
 event/
X-COST-TYPE:external
X-COST:200
X-TICKETS-URL:https://action.lung.org/site/TR?pg=informational&sid=9151&fr_
 id=23719
END:VEVENT
END:VCALENDAR
