BEGIN:VCALENDAR
VERSION:2.0
PRODID:-//172.67.130.121//NONSGML kigkonsult.se iCalcreator 2.26.9//
CALSCALE:GREGORIAN
METHOD:PUBLISH
X-WR-CALNAME:Seattle Bike Blog
X-WR-CALDESC:
X-FROM-URL:https://www.seattlebikeblog.com
X-WR-TIMEZONE:America/Los_Angeles
BEGIN:VTIMEZONE
TZID:America/Los_Angeles
X-LIC-LOCATION:America/Los_Angeles
BEGIN:STANDARD
DTSTART:20231105T020000
TZOFFSETFROM:-0700
TZOFFSETTO:-0800
RDATE:20241103T020000
TZNAME:PST
END:STANDARD
BEGIN:DAYLIGHT
DTSTART:20230312T020000
TZOFFSETFROM:-0800
TZOFFSETTO:-0700
RDATE:20240310T020000
TZNAME:PDT
END:DAYLIGHT
END:VTIMEZONE
BEGIN:VEVENT
UID:1tc1ps39sjemco38mlcbemhrt5_R20221129T013000@google.com
DTSTAMP:20230811T070318Z
CATEGORIES;LANGUAGE=en-US:Seattle Neighborhood Greenways
CONTACT:
DESCRIPTION:Last Monday of the month. \nJoin us! https://seattlegreenways.o
 rg/downtowngreenways\nShareMastodonTwitterFacebookRedditEmail
DTSTART;TZID=America/Los_Angeles:20221128T173000
DTEND;TZID=America/Los_Angeles:20221128T190000
EXDATE;TZID=America/Los_Angeles:20221226T173000
EXDATE;TZID=America/Los_Angeles:20230529T173000
RRULE:FREQ=MONTHLY;BYDAY=-1MO
SEQUENCE:0
SUMMARY:Downtown Greenways monthly meeting
URL:https://www.seattlebikeblog.com/event/downtown-greenways-monthly-meetin
 g-2/
X-ALT-DESC;FMTTYPE=text/html:<!DOCTYPE HTML PUBLIC '-//W3C//DTD HTML 3.2//E
 N'>\\n<HTML>\\n<HEAD>\\n<TITLE></TITLE>\\n</HEAD>\\n<BODY><p>Last Monday o
 f the month. <br />\nJoin us! https://seattlegreenways.org/downtowngreenwa
 ys</p>\n<div class='sharedaddy sd-sharing-enabled'><div class='robots-noco
 ntent sd-block sd-social sd-social-icon-text sd-sharing'><h3 class='sd-tit
 le'>Share</h3><div class='sd-content'><ul><li class='share-mastodon'><a re
 l='nofollow noopener noreferrer' data-shared='sharing-mastodon-505665' cla
 ss='share-mastodon sd-button share-icon' href='https://www.seattlebikeblog
 .com/2023/08/10/cpsc-should-eliminate-outdated-child-coaster-brake-mandate
 /?share=mastodon' target='_blank' title='Click to share on Mastodon' ><spa
 n>Mastodon</span></a></li><li class='share-twitter'><a rel='nofollow noope
 ner noreferrer' data-shared='sharing-twitter-505665' class='share-twitter 
 sd-button share-icon' href='https://www.seattlebikeblog.com/2023/08/10/cps
 c-should-eliminate-outdated-child-coaster-brake-mandate/?share=twitter' ta
 rget='_blank' title='Click to share on Twitter' ><span>Twitter</span></a><
 /li><li class='share-facebook'><a rel='nofollow noopener noreferrer' data-
 shared='sharing-facebook-505665' class='share-facebook sd-button share-ico
 n' href='https://www.seattlebikeblog.com/2023/08/10/cpsc-should-eliminate-
 outdated-child-coaster-brake-mandate/?share=facebook' target='_blank' titl
 e='Click to share on Facebook' ><span>Facebook</span></a></li><li class='s
 hare-reddit'><a rel='nofollow noopener noreferrer' data-shared='' class='s
 hare-reddit sd-button share-icon' href='https://www.seattlebikeblog.com/20
 23/08/10/cpsc-should-eliminate-outdated-child-coaster-brake-mandate/?share
 =reddit' target='_blank' title='Click to share on Reddit' ><span>Reddit</s
 pan></a></li><li class='share-email'><a rel='nofollow noopener noreferrer'
  data-shared='' class='share-email sd-button share-icon' href='mailto:?sub
 ject=%5BShared%20Post%5D%20CPSC%20should%20eliminate%20outdated%20child%20
 coaster%20brake%20mandate&body=https%3A%2F%2Fwww.seattlebikeblog.com%2F202
 3%2F08%2F10%2Fcpsc-should-eliminate-outdated-child-coaster-brake-mandate%2
 F&share=email' target='_blank' title='Click to email a link to a friend' d
 ata-email-share-error-title='Do you have email set up?' data-email-share-e
 rror-text='If you're having problems sharing via email\, you might not hav
 e email set up for your browser. You may need to create a new email yourse
 lf.' data-email-share-nonce='fa8e82c0dd' data-email-share-track-url='https
 ://www.seattlebikeblog.com/2023/08/10/cpsc-should-eliminate-outdated-child
 -coaster-brake-mandate/?share=email'><span>Email</span></a></li><li class=
 'share-end'></li></ul></div></div></div></BODY></HTML>
END:VEVENT
END:VCALENDAR
