BEGIN:VCALENDAR
VERSION:2.0
PRODID:-//104.21.3.77//NONSGML kigkonsult.se iCalcreator 2.26.9//
CALSCALE:GREGORIAN
METHOD:PUBLISH
X-WR-CALNAME:Seattle Bike Blog
X-WR-CALDESC:
X-FROM-URL:https://www.seattlebikeblog.com
X-WR-TIMEZONE:America/Los_Angeles
BEGIN:VTIMEZONE
TZID:America/Los_Angeles
X-LIC-LOCATION:America/Los_Angeles
BEGIN:STANDARD
DTSTART:20231105T020000
TZOFFSETFROM:-0700
TZOFFSETTO:-0800
RDATE:20241103T020000
TZNAME:PST
END:STANDARD
BEGIN:DAYLIGHT
DTSTART:20230312T020000
TZOFFSETFROM:-0800
TZOFFSETTO:-0700
RDATE:20240310T020000
TZNAME:PDT
END:DAYLIGHT
END:VTIMEZONE
BEGIN:VEVENT
UID:rd3tmpnlthinnq1i52jldnhsu0@google.com
DTSTAMP:20230811T113921Z
CATEGORIES;LANGUAGE=en-US:Seattle Neighborhood Greenways
CONTACT:
DESCRIPTION:<p>Our regularly scheduled meeting\, happens every other month.
  Please check NW Greenways Twitter account – <a href='https://twitter.com/
 NWGreenways' id='ow11453'>https://twitter.com/NWGreenways</a>\, our Google
  Group – <a href='https://goo.gl/W9jmzW'><span>https://goo.gl/W9jmzW</span
 ></a> or our Facebook page (<a href='https://www.facebook.com/NWGreenways/
 ' id='ow11466'>https://www.facebook.com/NWGreenways/</a>) to confirm the m
 eeting. </p>\n<div class='sharedaddy sd-sharing-enabled'><div class='robot
 s-nocontent sd-block sd-social sd-social-icon-text sd-sharing'><h3 class='
 sd-title'>Share</h3><div class='sd-content'><ul><li class='share-mastodon'
 ><a rel='nofollow noopener noreferrer' data-shared='sharing-mastodon-50566
 5' class='share-mastodon sd-button share-icon' href='https://www.seattlebi
 keblog.com/2023/08/10/cpsc-should-eliminate-outdated-child-coaster-brake-m
 andate/?share=mastodon' target='_blank' title='Click to share on Mastodon'
  ><span>Mastodon</span></a></li><li class='share-twitter'><a rel='nofollow
  noopener noreferrer' data-shared='sharing-twitter-505665' class='share-tw
 itter sd-button share-icon' href='https://www.seattlebikeblog.com/2023/08/
 10/cpsc-should-eliminate-outdated-child-coaster-brake-mandate/?share=twitt
 er' target='_blank' title='Click to share on Twitter' ><span>Twitter</span
 ></a></li><li class='share-facebook'><a rel='nofollow noopener noreferrer'
  data-shared='sharing-facebook-505665' class='share-facebook sd-button sha
 re-icon' href='https://www.seattlebikeblog.com/2023/08/10/cpsc-should-elim
 inate-outdated-child-coaster-brake-mandate/?share=facebook' target='_blank
 ' title='Click to share on Facebook' ><span>Facebook</span></a></li><li cl
 ass='share-reddit'><a rel='nofollow noopener noreferrer' data-shared='' cl
 ass='share-reddit sd-button share-icon' href='https://www.seattlebikeblog.
 com/2023/08/10/cpsc-should-eliminate-outdated-child-coaster-brake-mandate/
 ?share=reddit' target='_blank' title='Click to share on Reddit' ><span>Red
 dit</span></a></li><li class='share-email'><a rel='nofollow noopener noref
 errer' data-shared='' class='share-email sd-button share-icon' href='mailt
 o:?subject=%5BShared%20Post%5D%20CPSC%20should%20eliminate%20outdated%20ch
 ild%20coaster%20brake%20mandate&body=https%3A%2F%2Fwww.seattlebikeblog.com
 %2F2023%2F08%2F10%2Fcpsc-should-eliminate-outdated-child-coaster-brake-man
 date%2F&share=email' target='_blank' title='Click to email a link to a fri
 end' data-email-share-error-title='Do you have email set up?' data-email-s
 hare-error-text='If you're having problems sharing via email\, you might n
 ot have email set up for your browser. You may need to create a new email 
 yourself.' data-email-share-nonce='fa8e82c0dd' data-email-share-track-url=
 'https://www.seattlebikeblog.com/2023/08/10/cpsc-should-eliminate-outdated
 -child-coaster-brake-mandate/?share=email'><span>Email</span></a></li><li 
 class='share-end'></li></ul></div></div></div>
DTSTART;TZID=America/Los_Angeles:20221206T193000
DTEND;TZID=America/Los_Angeles:20221206T203000
LOCATION:Virtual via Zoom
RRULE:FREQ=MONTHLY;INTERVAL=2;BYDAY=1TU
SEQUENCE:0
SUMMARY:NW Greenways Meeting
URL:https://www.seattlebikeblog.com/event/nw-greenways-meeting-2/
END:VEVENT
END:VCALENDAR
