BEGIN:VCALENDAR
VERSION:2.0
PRODID:-//104.21.3.77//NONSGML kigkonsult.se iCalcreator 2.26.9//
CALSCALE:GREGORIAN
METHOD:PUBLISH
X-WR-CALNAME:Seattle Bike Blog
X-WR-CALDESC:
X-FROM-URL:https://www.seattlebikeblog.com
X-WR-TIMEZONE:America/Los_Angeles
BEGIN:VTIMEZONE
TZID:America/Los_Angeles
X-LIC-LOCATION:America/Los_Angeles
BEGIN:STANDARD
DTSTART:20231105T020000
TZOFFSETFROM:-0700
TZOFFSETTO:-0800
RDATE:20241103T020000
TZNAME:PST
END:STANDARD
BEGIN:DAYLIGHT
DTSTART:20230312T020000
TZOFFSETFROM:-0800
TZOFFSETTO:-0700
RDATE:20240310T020000
TZNAME:PDT
END:DAYLIGHT
END:VTIMEZONE
BEGIN:VEVENT
UID:1t3qniccg27qtiiu3k2uvhho1p_R20200712T160000@google.com
DTSTAMP:20230811T063923Z
CATEGORIES;LANGUAGE=en-US:Seattle Neighborhood Greenways
CONTACT:
DESCRIPTION:Every month volunteers gather to collect garbage and help beaut
 ify our neighborhood.  On average\, we collect about 15 bags of garbage pe
 r clean up\, which means 1\,000’s of small pieces of plastic that do not f
 ind their way into Puget Sound.\n—\nSeattle friends and neighbors!! Please
  join us for our ongoing ‘First Saturday’ of the month clean-up effort\, 
 \n\n\n\n\n\n\n\n\nWHEN:  8am – 11am WHERE:  Corner of S Walker St. and Rai
 nier Ave S\n\n\n\n\n\n\n\n\n\n\n\n\n\n\n\n\n\n\n\n\n\n\n\n\n\n\n\nPlease e
 mail us if this will be your first clean up. We will have all the material
 s you need to participate set out for you to pick up\, including gloves\, 
 pickers\, and bags. Wear weather appropriate clothes\, especially good sho
 es. See you\, rain or shine\, outside Buddha Bruddah!\n\n\n\n\n\n\n\n\n\n
 \n\n\n\n\n\n\n\n\n\nShareMastodonTwitterFacebookRedditEmail
DTSTART;TZID=America/Los_Angeles:20201011T090000
DTEND;TZID=America/Los_Angeles:20201011T120000
EXDATE;TZID=America/Los_Angeles:20200809T090000
EXDATE;TZID=America/Los_Angeles:20200913T090000
LOCATION:Rotating location\, check website
RRULE:FREQ=MONTHLY;BYDAY=2SU
SEQUENCE:0
SUMMARY:Mt Baker Hub Alliance 2nd Sunday Neighborhood Cleanup
URL:https://www.seattlebikeblog.com/event/mt-baker-hub-alliance-2nd-sunday-
 neighborhood-cleanup-2/
X-ALT-DESC;FMTTYPE=text/html:<!DOCTYPE HTML PUBLIC '-//W3C//DTD HTML 3.2//E
 N'>\\n<HTML>\\n<HEAD>\\n<TITLE></TITLE>\\n</HEAD>\\n<BODY><p>Every month v
 olunteers gather to collect garbage and help beautify our neighborhood.  O
 n average\, we collect about 15 bags of garbage per clean up\, which means
  1\,000’s of small pieces of plastic that do not find their way into Puget
  Sound.</p>\n<p>—</p>\n<p>Seattle friends and neighbors!! Please join us f
 or our ongoing ‘First Saturday’ of the month clean-up effort\, <br /><b><b
 r /></b></p>\n<table>\n<tbody>\n<tr>\n<td>\n<table>\n<tbody>\n<tr>\n<td>\n
 <h3>WHEN: <em> <u>8am – 11am</u></em> <br />WHERE:  Corner of S Walker St.
  and Rainier Ave S</h3>\n</td>\n</tr>\n</tbody>\n</table>\n</td>\n</tr>\n<
 /tbody>\n</table>\n<table>\n<tbody>\n<tr>\n<td>\n<table>\n<tbody>\n<tr>\n<
 td>\n<table>\n<tbody>\n<tr>\n<td></td>\n</tr>\n</tbody>\n</table>\n<table>
 \n<tbody>\n<tr>\n<td>\n<p><strong>Please email us if this will be your fir
 st clean up.</strong> We will have all the materials you need to participa
 te set out for you to pick up\, including gloves\, pickers\, and bags. Wea
 r weather appropriate clothes\, especially good shoes. See you\, rain or s
 hine\, outside Buddha Bruddah!</p>\n</td>\n</tr>\n</tbody>\n</table>\n</td
 >\n</tr>\n</tbody>\n</table>\n</td>\n</tr>\n</tbody>\n</table>\n<table>\n<
 tbody>\n<tr>\n<td></td>\n</tr>\n</tbody>\n</table>\n<div class='sharedaddy
  sd-sharing-enabled'><div class='robots-nocontent sd-block sd-social sd-so
 cial-icon-text sd-sharing'><h3 class='sd-title'>Share</h3><div class='sd-c
 ontent'><ul><li class='share-mastodon'><a rel='nofollow noopener noreferre
 r' data-shared='sharing-mastodon-505665' class='share-mastodon sd-button s
 hare-icon' href='https://www.seattlebikeblog.com/2023/08/10/cpsc-should-el
 iminate-outdated-child-coaster-brake-mandate/?share=mastodon' target='_bla
 nk' title='Click to share on Mastodon' ><span>Mastodon</span></a></li><li 
 class='share-twitter'><a rel='nofollow noopener noreferrer' data-shared='s
 haring-twitter-505665' class='share-twitter sd-button share-icon' href='ht
 tps://www.seattlebikeblog.com/2023/08/10/cpsc-should-eliminate-outdated-ch
 ild-coaster-brake-mandate/?share=twitter' target='_blank' title='Click to 
 share on Twitter' ><span>Twitter</span></a></li><li class='share-facebook'
 ><a rel='nofollow noopener noreferrer' data-shared='sharing-facebook-50566
 5' class='share-facebook sd-button share-icon' href='https://www.seattlebi
 keblog.com/2023/08/10/cpsc-should-eliminate-outdated-child-coaster-brake-m
 andate/?share=facebook' target='_blank' title='Click to share on Facebook'
  ><span>Facebook</span></a></li><li class='share-reddit'><a rel='nofollow 
 noopener noreferrer' data-shared='' class='share-reddit sd-button share-ic
 on' href='https://www.seattlebikeblog.com/2023/08/10/cpsc-should-eliminate
 -outdated-child-coaster-brake-mandate/?share=reddit' target='_blank' title
 ='Click to share on Reddit' ><span>Reddit</span></a></li><li class='share-
 email'><a rel='nofollow noopener noreferrer' data-shared='' class='share-e
 mail sd-button share-icon' href='mailto:?subject=%5BShared%20Post%5D%20CPS
 C%20should%20eliminate%20outdated%20child%20coaster%20brake%20mandate&body
 =https%3A%2F%2Fwww.seattlebikeblog.com%2F2023%2F08%2F10%2Fcpsc-should-elim
 inate-outdated-child-coaster-brake-mandate%2F&share=email' target='_blank'
  title='Click to email a link to a friend' data-email-share-error-title='D
 o you have email set up?' data-email-share-error-text='If you're having pr
 oblems sharing via email\, you might not have email set up for your browse
 r. You may need to create a new email yourself.' data-email-share-nonce='f
 a8e82c0dd' data-email-share-track-url='https://www.seattlebikeblog.com/202
 3/08/10/cpsc-should-eliminate-outdated-child-coaster-brake-mandate/?share=
 email'><span>Email</span></a></li><li class='share-end'></li></ul></div></
 div></div></BODY></HTML>
END:VEVENT
END:VCALENDAR
