BEGIN:VCALENDAR
VERSION:2.0
PRODID:-//172.67.130.121//NONSGML kigkonsult.se iCalcreator 2.26.9//
CALSCALE:GREGORIAN
METHOD:PUBLISH
X-WR-CALNAME:Seattle Bike Blog
X-WR-CALDESC:
X-FROM-URL:https://www.seattlebikeblog.com
X-WR-TIMEZONE:America/Los_Angeles
BEGIN:VTIMEZONE
TZID:America/Los_Angeles
X-LIC-LOCATION:America/Los_Angeles
BEGIN:STANDARD
DTSTART:20231105T020000
TZOFFSETFROM:-0700
TZOFFSETTO:-0800
RDATE:20241103T020000
TZNAME:PST
END:STANDARD
BEGIN:DAYLIGHT
DTSTART:20230312T020000
TZOFFSETFROM:-0800
TZOFFSETTO:-0700
RDATE:20240310T020000
TZNAME:PDT
END:DAYLIGHT
END:VTIMEZONE
BEGIN:VEVENT
UID:02nra8i5lu678mgus8gr971p14@google.com
DTSTAMP:20230811T071135Z
CATEGORIES;LANGUAGE=en-US:Seattle Neighborhood Greenways
CONTACT:
DESCRIPTION:<p>Sign up for the meeting invite: https://www.got99problems.or
 g/join-us</p>\n<div class='sharedaddy sd-sharing-enabled'><div class='robo
 ts-nocontent sd-block sd-social sd-social-icon-text sd-sharing'><h3 class=
 'sd-title'>Share</h3><div class='sd-content'><ul><li class='share-mastodon
 '><a rel='nofollow noopener noreferrer' data-shared='sharing-mastodon-5056
 65' class='share-mastodon sd-button share-icon' href='https://www.seattleb
 ikeblog.com/2023/08/10/cpsc-should-eliminate-outdated-child-coaster-brake-
 mandate/?share=mastodon' target='_blank' title='Click to share on Mastodon
 ' ><span>Mastodon</span></a></li><li class='share-twitter'><a rel='nofollo
 w noopener noreferrer' data-shared='sharing-twitter-505665' class='share-t
 witter sd-button share-icon' href='https://www.seattlebikeblog.com/2023/08
 /10/cpsc-should-eliminate-outdated-child-coaster-brake-mandate/?share=twit
 ter' target='_blank' title='Click to share on Twitter' ><span>Twitter</spa
 n></a></li><li class='share-facebook'><a rel='nofollow noopener noreferrer
 ' data-shared='sharing-facebook-505665' class='share-facebook sd-button sh
 are-icon' href='https://www.seattlebikeblog.com/2023/08/10/cpsc-should-eli
 minate-outdated-child-coaster-brake-mandate/?share=facebook' target='_blan
 k' title='Click to share on Facebook' ><span>Facebook</span></a></li><li c
 lass='share-reddit'><a rel='nofollow noopener noreferrer' data-shared='' c
 lass='share-reddit sd-button share-icon' href='https://www.seattlebikeblog
 .com/2023/08/10/cpsc-should-eliminate-outdated-child-coaster-brake-mandate
 /?share=reddit' target='_blank' title='Click to share on Reddit' ><span>Re
 ddit</span></a></li><li class='share-email'><a rel='nofollow noopener nore
 ferrer' data-shared='' class='share-email sd-button share-icon' href='mail
 to:?subject=%5BShared%20Post%5D%20CPSC%20should%20eliminate%20outdated%20c
 hild%20coaster%20brake%20mandate&body=https%3A%2F%2Fwww.seattlebikeblog.co
 m%2F2023%2F08%2F10%2Fcpsc-should-eliminate-outdated-child-coaster-brake-ma
 ndate%2F&share=email' target='_blank' title='Click to email a link to a fr
 iend' data-email-share-error-title='Do you have email set up?' data-email-
 share-error-text='If you're having problems sharing via email\, you might 
 not have email set up for your browser. You may need to create a new email
  yourself.' data-email-share-nonce='fa8e82c0dd' data-email-share-track-url
 ='https://www.seattlebikeblog.com/2023/08/10/cpsc-should-eliminate-outdate
 d-child-coaster-brake-mandate/?share=email'><span>Email</span></a></li><li
  class='share-end'></li></ul></div></div></div>
DTSTART;TZID=America/Los_Angeles:20220411T190000
DTEND;TZID=America/Los_Angeles:20220411T200000
RRULE:FREQ=MONTHLY;BYDAY=2MO
SEQUENCE:0
SUMMARY:Aurora Reimagined Coalition
URL:https://www.seattlebikeblog.com/event/aurora-reimagined-coalition/
END:VEVENT
END:VCALENDAR
