BEGIN:VCALENDAR
VERSION:2.0
PRODID:-//104.21.3.77//NONSGML kigkonsult.se iCalcreator 2.26.9//
CALSCALE:GREGORIAN
METHOD:PUBLISH
X-WR-CALNAME:Seattle Bike Blog
X-WR-CALDESC:
X-FROM-URL:https://www.seattlebikeblog.com
X-WR-TIMEZONE:America/Los_Angeles
BEGIN:VTIMEZONE
TZID:America/Los_Angeles
X-LIC-LOCATION:America/Los_Angeles
BEGIN:STANDARD
DTSTART:20231105T020000
TZOFFSETFROM:-0700
TZOFFSETTO:-0800
RDATE:20241103T020000
TZNAME:PST
END:STANDARD
BEGIN:DAYLIGHT
DTSTART:20230312T020000
TZOFFSETFROM:-0800
TZOFFSETTO:-0700
RDATE:20240310T020000
TZNAME:PDT
END:DAYLIGHT
END:VTIMEZONE
BEGIN:VEVENT
UID:_6ook4h1k75236b9o70s4cb9k88skab9p75236ba18l13icpm61234dq684_R20220315T0
 10000@google.com
DTSTAMP:20230811T064351Z
CATEGORIES;LANGUAGE=en-US:Seattle Neighborhood Greenways
CONTACT:
DESCRIPTION:To receive the Zoom link and meeting agendas\, visit Central Se
 attle Greenways’ website at http://centralseattlegreenways.com to subscrib
 e to our Google Group or email us at centralseattlegreenways@gmail.com.\nS
 hareMastodonTwitterFacebookRedditEmail
DTSTART;TZID=America/Los_Angeles:20220314T180000
DTEND;TZID=America/Los_Angeles:20220314T200000
LOCATION:Zoom
RRULE:FREQ=MONTHLY;BYDAY=2MO
SEQUENCE:0
SUMMARY:Central Seattle Greenways’ monthly meeting
URL:https://www.seattlebikeblog.com/event/central-seattle-greenways-monthly
 -meeting-15/
X-ALT-DESC;FMTTYPE=text/html:<!DOCTYPE HTML PUBLIC '-//W3C//DTD HTML 3.2//E
 N'>\\n<HTML>\\n<HEAD>\\n<TITLE></TITLE>\\n</HEAD>\\n<BODY><p>To receive th
 e Zoom link and meeting agendas\, visit Central Seattle Greenways’ website
  at <a href='http://centralseattlegreenways.com/'>http://centralseattlegre
 enways.com</a> to subscribe to our Google Group or email us at <a href='ma
 ilto:centralseattlegreenways@gmail.com'>centralseattlegreenways@gmail.com<
 /a>.</p>\n<div class='sharedaddy sd-sharing-enabled'><div class='robots-no
 content sd-block sd-social sd-social-icon-text sd-sharing'><h3 class='sd-t
 itle'>Share</h3><div class='sd-content'><ul><li class='share-mastodon'><a 
 rel='nofollow noopener noreferrer' data-shared='sharing-mastodon-505665' c
 lass='share-mastodon sd-button share-icon' href='https://www.seattlebikebl
 og.com/2023/08/10/cpsc-should-eliminate-outdated-child-coaster-brake-manda
 te/?share=mastodon' target='_blank' title='Click to share on Mastodon' ><s
 pan>Mastodon</span></a></li><li class='share-twitter'><a rel='nofollow noo
 pener noreferrer' data-shared='sharing-twitter-505665' class='share-twitte
 r sd-button share-icon' href='https://www.seattlebikeblog.com/2023/08/10/c
 psc-should-eliminate-outdated-child-coaster-brake-mandate/?share=twitter' 
 target='_blank' title='Click to share on Twitter' ><span>Twitter</span></a
 ></li><li class='share-facebook'><a rel='nofollow noopener noreferrer' dat
 a-shared='sharing-facebook-505665' class='share-facebook sd-button share-i
 con' href='https://www.seattlebikeblog.com/2023/08/10/cpsc-should-eliminat
 e-outdated-child-coaster-brake-mandate/?share=facebook' target='_blank' ti
 tle='Click to share on Facebook' ><span>Facebook</span></a></li><li class=
 'share-reddit'><a rel='nofollow noopener noreferrer' data-shared='' class=
 'share-reddit sd-button share-icon' href='https://www.seattlebikeblog.com/
 2023/08/10/cpsc-should-eliminate-outdated-child-coaster-brake-mandate/?sha
 re=reddit' target='_blank' title='Click to share on Reddit' ><span>Reddit<
 /span></a></li><li class='share-email'><a rel='nofollow noopener noreferre
 r' data-shared='' class='share-email sd-button share-icon' href='mailto:?s
 ubject=%5BShared%20Post%5D%20CPSC%20should%20eliminate%20outdated%20child%
 20coaster%20brake%20mandate&body=https%3A%2F%2Fwww.seattlebikeblog.com%2F2
 023%2F08%2F10%2Fcpsc-should-eliminate-outdated-child-coaster-brake-mandate
 %2F&share=email' target='_blank' title='Click to email a link to a friend'
  data-email-share-error-title='Do you have email set up?' data-email-share
 -error-text='If you're having problems sharing via email\, you might not h
 ave email set up for your browser. You may need to create a new email your
 self.' data-email-share-nonce='fa8e82c0dd' data-email-share-track-url='htt
 ps://www.seattlebikeblog.com/2023/08/10/cpsc-should-eliminate-outdated-chi
 ld-coaster-brake-mandate/?share=email'><span>Email</span></a></li><li clas
 s='share-end'></li></ul></div></div></div></BODY></HTML>
END:VEVENT
END:VCALENDAR
