BEGIN:VCALENDAR
VERSION:2.0
PRODID:-//172.67.130.121//NONSGML kigkonsult.se iCalcreator 2.26.9//
CALSCALE:GREGORIAN
METHOD:PUBLISH
X-WR-CALNAME:Seattle Bike Blog
X-WR-CALDESC:
X-FROM-URL:https://www.seattlebikeblog.com
X-WR-TIMEZONE:America/Los_Angeles
BEGIN:VTIMEZONE
TZID:America/Los_Angeles
X-LIC-LOCATION:America/Los_Angeles
BEGIN:STANDARD
DTSTART:20231105T020000
TZOFFSETFROM:-0700
TZOFFSETTO:-0800
RDATE:20241103T020000
TZNAME:PST
END:STANDARD
BEGIN:DAYLIGHT
DTSTART:20230312T020000
TZOFFSETFROM:-0800
TZOFFSETTO:-0700
RDATE:20240310T020000
TZNAME:PDT
END:DAYLIGHT
END:VTIMEZONE
BEGIN:VEVENT
UID:09rf5j2agc3su1eg70ao2r8thl_R20220728T010000@google.com
DTSTAMP:20230811T071417Z
CATEGORIES;LANGUAGE=en-US:Seattle Neighborhood Greenways
CONTACT:
DESCRIPTION:<p>Ballard-Fremont Greenways meets monthly on the 4th Wednesday
  of the month. Join the google group for monthly meeting information: http
 s://groups.google.com/g/ballard-greenways</p>\n<p>Bring your enthusiasm an
 d ideas to share with the group or just stop in to say hello and join an e
 xisting project.</p>\n<div class='sharedaddy sd-sharing-enabled'><div clas
 s='robots-nocontent sd-block sd-social sd-social-icon-text sd-sharing'><h3
  class='sd-title'>Share</h3><div class='sd-content'><ul><li class='share-m
 astodon'><a rel='nofollow noopener noreferrer' data-shared='sharing-mastod
 on-505665' class='share-mastodon sd-button share-icon' href='https://www.s
 eattlebikeblog.com/2023/08/10/cpsc-should-eliminate-outdated-child-coaster
 -brake-mandate/?share=mastodon' target='_blank' title='Click to share on M
 astodon' ><span>Mastodon</span></a></li><li class='share-twitter'><a rel='
 nofollow noopener noreferrer' data-shared='sharing-twitter-505665' class='
 share-twitter sd-button share-icon' href='https://www.seattlebikeblog.com/
 2023/08/10/cpsc-should-eliminate-outdated-child-coaster-brake-mandate/?sha
 re=twitter' target='_blank' title='Click to share on Twitter' ><span>Twitt
 er</span></a></li><li class='share-facebook'><a rel='nofollow noopener nor
 eferrer' data-shared='sharing-facebook-505665' class='share-facebook sd-bu
 tton share-icon' href='https://www.seattlebikeblog.com/2023/08/10/cpsc-sho
 uld-eliminate-outdated-child-coaster-brake-mandate/?share=facebook' target
 ='_blank' title='Click to share on Facebook' ><span>Facebook</span></a></l
 i><li class='share-reddit'><a rel='nofollow noopener noreferrer' data-shar
 ed='' class='share-reddit sd-button share-icon' href='https://www.seattleb
 ikeblog.com/2023/08/10/cpsc-should-eliminate-outdated-child-coaster-brake-
 mandate/?share=reddit' target='_blank' title='Click to share on Reddit' ><
 span>Reddit</span></a></li><li class='share-email'><a rel='nofollow noopen
 er noreferrer' data-shared='' class='share-email sd-button share-icon' hre
 f='mailto:?subject=%5BShared%20Post%5D%20CPSC%20should%20eliminate%20outda
 ted%20child%20coaster%20brake%20mandate&body=https%3A%2F%2Fwww.seattlebike
 blog.com%2F2023%2F08%2F10%2Fcpsc-should-eliminate-outdated-child-coaster-b
 rake-mandate%2F&share=email' target='_blank' title='Click to email a link 
 to a friend' data-email-share-error-title='Do you have email set up?' data
 -email-share-error-text='If you're having problems sharing via email\, you
  might not have email set up for your browser. You may need to create a ne
 w email yourself.' data-email-share-nonce='fa8e82c0dd' data-email-share-tr
 ack-url='https://www.seattlebikeblog.com/2023/08/10/cpsc-should-eliminate-
 outdated-child-coaster-brake-mandate/?share=email'><span>Email</span></a><
 /li><li class='share-end'></li></ul></div></div></div>
DTSTART;TZID=America/Los_Angeles:20220727T180000
DTEND;TZID=America/Los_Angeles:20220727T193000
EXDATE;TZID=America/Los_Angeles:20221228T180000
LOCATION:Rotating location\, check website.
RRULE:FREQ=MONTHLY;BYDAY=4WE
SEQUENCE:0
SUMMARY:Ballard-Fremont Greenways Meeting
URL:https://www.seattlebikeblog.com/event/ballard-fremont-greenways-meeting
 -12/
END:VEVENT
END:VCALENDAR
