BEGIN:VCALENDAR
VERSION:2.0
PRODID:-//172.67.130.121//NONSGML kigkonsult.se iCalcreator 2.26.9//
CALSCALE:GREGORIAN
METHOD:PUBLISH
X-WR-CALNAME:Seattle Bike Blog
X-WR-CALDESC:
X-FROM-URL:https://www.seattlebikeblog.com
X-WR-TIMEZONE:America/Los_Angeles
BEGIN:VTIMEZONE
TZID:America/Los_Angeles
X-LIC-LOCATION:America/Los_Angeles
BEGIN:STANDARD
DTSTART:20231105T020000
TZOFFSETFROM:-0700
TZOFFSETTO:-0800
RDATE:20241103T020000
TZNAME:PST
END:STANDARD
BEGIN:DAYLIGHT
DTSTART:20230312T020000
TZOFFSETFROM:-0800
TZOFFSETTO:-0700
RDATE:20240310T020000
TZNAME:PDT
END:DAYLIGHT
END:VTIMEZONE
BEGIN:VEVENT
UID:kpa76c4uds1diqbgbgtncc5okg_R20170302T020000@google.com
DTSTAMP:20230811T071156Z
CATEGORIES;LANGUAGE=en-US:Seattle Neighborhood Greenways
CONTACT:
DESCRIPTION:<p>Monthly agendas can be found at: http://www.seattle.gov/seat
 tle-bicycle-advisory-board/meetings/meeting-agendas</p>\n<p>The Seattle Bi
 cycle Advisory Board (SBAB) advises the Mayor\, City Council\, and City De
 partments and Divisions on projects\, policies\, and programs that improve
  and/or affect bicycling conditions in Seattle.</p>\n<p>Responsibilities</
 p>\n<p>SBAB’s responsibilities include:</p>\n<p>Stewarding the Bicycle Mas
 ter Plan<br />\n– Monitoring implementation activities by City Departments
  and Divisions<br />\n– Serving as a resource for City Council on Bicycle 
 Master Plan activities<br />\n– Serving on transportation-related committe
 es and planning groups</p>\n<p>Making recommendations on City projects rel
 ated to mobility\, specifically bicycling<br />\n– Conducting annual revie
 ws of SDOT onstreet bicycle facility plans<br />\n– Ad hoc reviews of bicy
 cle projects\, trail construction\, and capital improvement projects<br />
 \nPublishing issue papers on bicycling-related topics<br />\nConducting Si
 te Tours<br />\n– Bikeablility Tours – periodically SBAB members conduct t
 ours of new bikeways\, inspect cycling conditions across critical corridor
 s\, and evaluate City of Seattle implementation activities.<br />\n– Facil
 ity Tours – SBAB members organize tours of facilities to examine best prac
 tices for bicycle commuting and parking in new and existing buildings</p>
 \n<p>As one of several citizen-led boards in the city\, SBAB relies on its
  membership’s diversity of experience\, knowledge\, and background to advi
 se the City to make cycling safer and more accessible in Seattle.</p>\n<di
 v class='sharedaddy sd-sharing-enabled'><div class='robots-nocontent sd-bl
 ock sd-social sd-social-icon-text sd-sharing'><h3 class='sd-title'>Share</
 h3><div class='sd-content'><ul><li class='share-mastodon'><a rel='nofollow
  noopener noreferrer' data-shared='sharing-mastodon-505665' class='share-m
 astodon sd-button share-icon' href='https://www.seattlebikeblog.com/2023/0
 8/10/cpsc-should-eliminate-outdated-child-coaster-brake-mandate/?share=mas
 todon' target='_blank' title='Click to share on Mastodon' ><span>Mastodon<
 /span></a></li><li class='share-twitter'><a rel='nofollow noopener norefer
 rer' data-shared='sharing-twitter-505665' class='share-twitter sd-button s
 hare-icon' href='https://www.seattlebikeblog.com/2023/08/10/cpsc-should-el
 iminate-outdated-child-coaster-brake-mandate/?share=twitter' target='_blan
 k' title='Click to share on Twitter' ><span>Twitter</span></a></li><li cla
 ss='share-facebook'><a rel='nofollow noopener noreferrer' data-shared='sha
 ring-facebook-505665' class='share-facebook sd-button share-icon' href='ht
 tps://www.seattlebikeblog.com/2023/08/10/cpsc-should-eliminate-outdated-ch
 ild-coaster-brake-mandate/?share=facebook' target='_blank' title='Click to
  share on Facebook' ><span>Facebook</span></a></li><li class='share-reddit
 '><a rel='nofollow noopener noreferrer' data-shared='' class='share-reddit
  sd-button share-icon' href='https://www.seattlebikeblog.com/2023/08/10/cp
 sc-should-eliminate-outdated-child-coaster-brake-mandate/?share=reddit' ta
 rget='_blank' title='Click to share on Reddit' ><span>Reddit</span></a></l
 i><li class='share-email'><a rel='nofollow noopener noreferrer' data-share
 d='' class='share-email sd-button share-icon' href='mailto:?subject=%5BSha
 red%20Post%5D%20CPSC%20should%20eliminate%20outdated%20child%20coaster%20b
 rake%20mandate&body=https%3A%2F%2Fwww.seattlebikeblog.com%2F2023%2F08%2F10
 %2Fcpsc-should-eliminate-outdated-child-coaster-brake-mandate%2F&share=ema
 il' target='_blank' title='Click to email a link to a friend' data-email-s
 hare-error-title='Do you have email set up?' data-email-share-error-text='
 If you're having problems sharing via email\, you might not have email set
  up for your browser. You may need to create a new email yourself.' data-e
 mail-share-nonce='fa8e82c0dd' data-email-share-track-url='https://www.seat
 tlebikeblog.com/2023/08/10/cpsc-should-eliminate-outdated-child-coaster-br
 ake-mandate/?share=email'><span>Email</span></a></li><li class='share-end'
 ></li></ul></div></div></div>
DTSTART;TZID=America/Los_Angeles:20200902T180000
DTEND;TZID=America/Los_Angeles:20200902T200000
EXDATE;TZID=America/Los_Angeles:20170705T180000
EXDATE;TZID=America/Los_Angeles:20180704T180000
EXDATE;TZID=America/Los_Angeles:20200101T180000
EXDATE;TZID=America/Los_Angeles:20200401T180000
EXDATE;TZID=America/Los_Angeles:20210106T180000
EXDATE;TZID=America/Los_Angeles:20210804T180000
EXDATE;TZID=America/Los_Angeles:20220504T180000
EXDATE;TZID=America/Los_Angeles:20230503T180000
LOCATION:Seattle City Hall\, Room 370
RRULE:FREQ=MONTHLY;BYDAY=1WE
SEQUENCE:0
SUMMARY:Seattle Bicycle Advisory Board Meeting
URL:https://www.seattlebikeblog.com/event/seattle-bicycle-advisory-board-me
 eting-4/
END:VEVENT
END:VCALENDAR
