BEGIN:VCALENDAR
VERSION:2.0
PRODID:-//104.21.3.77//NONSGML kigkonsult.se iCalcreator 2.26.9//
CALSCALE:GREGORIAN
METHOD:PUBLISH
X-WR-CALNAME:Seattle Bike Blog
X-WR-CALDESC:
X-FROM-URL:https://www.seattlebikeblog.com
X-WR-TIMEZONE:America/Los_Angeles
BEGIN:VTIMEZONE
TZID:America/Los_Angeles
X-LIC-LOCATION:America/Los_Angeles
BEGIN:STANDARD
DTSTART:20231105T020000
TZOFFSETFROM:-0700
TZOFFSETTO:-0800
RDATE:20241103T020000
TZNAME:PST
END:STANDARD
BEGIN:DAYLIGHT
DTSTART:20230312T020000
TZOFFSETFROM:-0800
TZOFFSETTO:-0700
RDATE:20240310T020000
TZNAME:PDT
END:DAYLIGHT
END:VTIMEZONE
BEGIN:VEVENT
UID:69o0kes4r0bvckr8an2vtdofqp@google.com
DTSTAMP:20230811T063752Z
CATEGORIES;LANGUAGE=en-US:Seattle Neighborhood Greenways
CONTACT:
DESCRIPTION:<p>Friends on Bikes<br />2nd Saturday Ride Series</p>\n<p>– – –
  </p>\n<p>✨🌸 SPRING HAS SPRUNG 🌸✨<br />And we are ready to roll into the s
 unshine. Starting April 9th\, join us every second Saturday\, late morning
 s for no-drop\, snack-forward\, and friendly rides all over Seattle.</p>\n
 <p>Meet-up locations will change as will the route. We will try to post ri
 de details on socials\, but join our Slack channel just in case we forget 
 😉</p>\n<p>FOB rides are geared toward getting trans\, two-spirit\, interse
 x\, gender nonconforming folks and women who are black\, indigenous\, and 
 people of the global majority on bikes!</p>\n<p>Bring a friend and tell al
 l ya friends about us!</p>\n<p>Welcome to all trans\, women\, intersex & g
 ender nonconforming (TWIG) people for the global majority (PGM)</p>\n<p>Se
 cond Saturday of each month</p>\n<p>No Drop</p>\n<p>Late morning start & r
 otating locations</p>\n<p>Snack-centric</p>\n<p>Flyer graphic by <a href='
 https://www.instagram.com/novatr0n/'>@novatr0n</a> 💖<br /><u></u><br /><u>
 </u><a href='https://www.instagram.com/fob_sea/' id='ow1632'>https://www.i
 nstagram.com/fob_sea/</a><br /><u></u></p>\n<div class='sharedaddy sd-shar
 ing-enabled'><div class='robots-nocontent sd-block sd-social sd-social-ico
 n-text sd-sharing'><h3 class='sd-title'>Share</h3><div class='sd-content'>
 <ul><li class='share-mastodon'><a rel='nofollow noopener noreferrer' data-
 shared='sharing-mastodon-505665' class='share-mastodon sd-button share-ico
 n' href='https://www.seattlebikeblog.com/2023/08/10/cpsc-should-eliminate-
 outdated-child-coaster-brake-mandate/?share=mastodon' target='_blank' titl
 e='Click to share on Mastodon' ><span>Mastodon</span></a></li><li class='s
 hare-twitter'><a rel='nofollow noopener noreferrer' data-shared='sharing-t
 witter-505665' class='share-twitter sd-button share-icon' href='https://ww
 w.seattlebikeblog.com/2023/08/10/cpsc-should-eliminate-outdated-child-coas
 ter-brake-mandate/?share=twitter' target='_blank' title='Click to share on
  Twitter' ><span>Twitter</span></a></li><li class='share-facebook'><a rel=
 'nofollow noopener noreferrer' data-shared='sharing-facebook-505665' class
 ='share-facebook sd-button share-icon' href='https://www.seattlebikeblog.c
 om/2023/08/10/cpsc-should-eliminate-outdated-child-coaster-brake-mandate/?
 share=facebook' target='_blank' title='Click to share on Facebook' ><span>
 Facebook</span></a></li><li class='share-reddit'><a rel='nofollow noopener
  noreferrer' data-shared='' class='share-reddit sd-button share-icon' href
 ='https://www.seattlebikeblog.com/2023/08/10/cpsc-should-eliminate-outdate
 d-child-coaster-brake-mandate/?share=reddit' target='_blank' title='Click 
 to share on Reddit' ><span>Reddit</span></a></li><li class='share-email'><
 a rel='nofollow noopener noreferrer' data-shared='' class='share-email sd-
 button share-icon' href='mailto:?subject=%5BShared%20Post%5D%20CPSC%20shou
 ld%20eliminate%20outdated%20child%20coaster%20brake%20mandate&body=https%3
 A%2F%2Fwww.seattlebikeblog.com%2F2023%2F08%2F10%2Fcpsc-should-eliminate-ou
 tdated-child-coaster-brake-mandate%2F&share=email' target='_blank' title='
 Click to email a link to a friend' data-email-share-error-title='Do you ha
 ve email set up?' data-email-share-error-text='If you're having problems s
 haring via email\, you might not have email set up for your browser. You m
 ay need to create a new email yourself.' data-email-share-nonce='fa8e82c0d
 d' data-email-share-track-url='https://www.seattlebikeblog.com/2023/08/10/
 cpsc-should-eliminate-outdated-child-coaster-brake-mandate/?share=email'><
 span>Email</span></a></li><li class='share-end'></li></ul></div></div></di
 v>
DTSTART;TZID=America/Los_Angeles:20220409T100000
DTEND;TZID=America/Los_Angeles:20220409T120000
EXDATE;TZID=America/Los_Angeles:20220409T100000
RRULE:FREQ=MONTHLY;UNTIL=20231101T065959Z;BYDAY=2SA
SEQUENCE:0
SUMMARY:Friends on Bikes 2nd Saturday Ride Series
URL:https://www.seattlebikeblog.com/event/friends-on-bikes-2nd-saturday-rid
 e-series/
END:VEVENT
END:VCALENDAR
