BEGIN:VCALENDAR
VERSION:2.0
PRODID:-//104.21.3.77//NONSGML kigkonsult.se iCalcreator 2.26.9//
CALSCALE:GREGORIAN
METHOD:PUBLISH
X-WR-CALNAME:Seattle Bike Blog
X-WR-CALDESC:
X-FROM-URL:https://www.seattlebikeblog.com
X-WR-TIMEZONE:America/Los_Angeles
BEGIN:VTIMEZONE
TZID:America/Los_Angeles
X-LIC-LOCATION:America/Los_Angeles
BEGIN:STANDARD
DTSTART:20231105T020000
TZOFFSETFROM:-0700
TZOFFSETTO:-0800
RDATE:20241103T020000
TZNAME:PST
END:STANDARD
BEGIN:DAYLIGHT
DTSTART:20230312T020000
TZOFFSETFROM:-0800
TZOFFSETTO:-0700
RDATE:20240310T020000
TZNAME:PDT
END:DAYLIGHT
END:VTIMEZONE
BEGIN:VEVENT
UID:6kp66c1i68rm2bb271j38b9k60om2bb16hi3ab9i74p34opkcopj6o9n6k_R20210610T01
 0000@google.com
DTSTAMP:20230811T072113Z
CATEGORIES;LANGUAGE=en-US:Seattle Neighborhood Greenways
CONTACT:
DESCRIPTION:<p>http://www.seattle.gov/spab/</p>\n<div class='sharedaddy sd-
 sharing-enabled'><div class='robots-nocontent sd-block sd-social sd-social
 -icon-text sd-sharing'><h3 class='sd-title'>Share</h3><div class='sd-conte
 nt'><ul><li class='share-mastodon'><a rel='nofollow noopener noreferrer' d
 ata-shared='sharing-mastodon-505665' class='share-mastodon sd-button share
 -icon' href='https://www.seattlebikeblog.com/2023/08/10/cpsc-should-elimin
 ate-outdated-child-coaster-brake-mandate/?share=mastodon' target='_blank' 
 title='Click to share on Mastodon' ><span>Mastodon</span></a></li><li clas
 s='share-twitter'><a rel='nofollow noopener noreferrer' data-shared='shari
 ng-twitter-505665' class='share-twitter sd-button share-icon' href='https:
 //www.seattlebikeblog.com/2023/08/10/cpsc-should-eliminate-outdated-child-
 coaster-brake-mandate/?share=twitter' target='_blank' title='Click to shar
 e on Twitter' ><span>Twitter</span></a></li><li class='share-facebook'><a 
 rel='nofollow noopener noreferrer' data-shared='sharing-facebook-505665' c
 lass='share-facebook sd-button share-icon' href='https://www.seattlebikebl
 og.com/2023/08/10/cpsc-should-eliminate-outdated-child-coaster-brake-manda
 te/?share=facebook' target='_blank' title='Click to share on Facebook' ><s
 pan>Facebook</span></a></li><li class='share-reddit'><a rel='nofollow noop
 ener noreferrer' data-shared='' class='share-reddit sd-button share-icon' 
 href='https://www.seattlebikeblog.com/2023/08/10/cpsc-should-eliminate-out
 dated-child-coaster-brake-mandate/?share=reddit' target='_blank' title='Cl
 ick to share on Reddit' ><span>Reddit</span></a></li><li class='share-emai
 l'><a rel='nofollow noopener noreferrer' data-shared='' class='share-email
  sd-button share-icon' href='mailto:?subject=%5BShared%20Post%5D%20CPSC%20
 should%20eliminate%20outdated%20child%20coaster%20brake%20mandate&body=htt
 ps%3A%2F%2Fwww.seattlebikeblog.com%2F2023%2F08%2F10%2Fcpsc-should-eliminat
 e-outdated-child-coaster-brake-mandate%2F&share=email' target='_blank' tit
 le='Click to email a link to a friend' data-email-share-error-title='Do yo
 u have email set up?' data-email-share-error-text='If you're having proble
 ms sharing via email\, you might not have email set up for your browser. Y
 ou may need to create a new email yourself.' data-email-share-nonce='fa8e8
 2c0dd' data-email-share-track-url='https://www.seattlebikeblog.com/2023/08
 /10/cpsc-should-eliminate-outdated-child-coaster-brake-mandate/?share=emai
 l'><span>Email</span></a></li><li class='share-end'></li></ul></div></div>
 </div>
DTSTART;TZID=America/Los_Angeles:20210609T180000
DTEND;TZID=America/Los_Angeles:20210609T200000
EXDATE;TZID=America/Los_Angeles:20220112T180000
LOCATION:Virtual meeting
RRULE:FREQ=MONTHLY;INTERVAL=1;BYDAY=2WE;WKST=MO
SEQUENCE:0
SUMMARY:Monthly SPAB Meeting
URL:https://www.seattlebikeblog.com/event/monthly-spab-meeting-7/
END:VEVENT
END:VCALENDAR
