BEGIN:VCALENDAR
VERSION:2.0
PRODID:-//172.67.130.121//NONSGML kigkonsult.se iCalcreator 2.26.9//
CALSCALE:GREGORIAN
METHOD:PUBLISH
X-WR-CALNAME:Seattle Bike Blog
X-WR-CALDESC:
X-FROM-URL:https://www.seattlebikeblog.com
X-WR-TIMEZONE:America/Los_Angeles
BEGIN:VTIMEZONE
TZID:America/Los_Angeles
X-LIC-LOCATION:America/Los_Angeles
BEGIN:STANDARD
DTSTART:20231105T020000
TZOFFSETFROM:-0700
TZOFFSETTO:-0800
RDATE:20241103T020000
TZNAME:PST
END:STANDARD
BEGIN:DAYLIGHT
DTSTART:20230312T020000
TZOFFSETFROM:-0800
TZOFFSETTO:-0700
RDATE:20240310T020000
TZNAME:PDT
END:DAYLIGHT
END:VTIMEZONE
BEGIN:VEVENT
UID:1316gt10cqekegl8m1ud03qk8u@google.com
DTSTAMP:20230811T135343Z
CATEGORIES;LANGUAGE=en-US:Seattle Neighborhood Greenways
CONTACT:
DESCRIPTION:<p>Celebratory group bike ride\, meet at 10:00 am at North 50th
  Street & Phinney Avenue North</p>\n<p>Activities and games for the whole 
 family at Green Lake Park 11:00 am – 1:00 pm</p>\n<p><a href='https://www.
 seattlebikeblog.com/event/e-green-lake-celebration-event-with-sdot/'>https
 ://www.seattlebikeblog.com/event/e-green-lake-celebration-event-with-sdot/
 </a></p>\n<p>– – – </p>\n<table>\n<tbody>\n<tr>\n<td>\n<table>\n<tbody>\n<
 tr>\n<td>\n<table>\n<tbody>\n<tr>\n<td>\n<table>\n<tbody>\n<tr>\n<td>\n<ta
 ble>\n<tbody>\n<tr>\n<td><strong><u>Come Celebrate With Us!</u></strong><b
 r />We would like to invite you to come celebrate the completion of the Gr
 een Lake and Wallingford Paving & Multi-Modal Improvements Project with us
 ! Beginning on July 31\, we are holding weeklong events to get you outside
 \, moving\, and exploring the new roadway improvements.</p>\n<p>After 2 ye
 ars of construction\, we are so thrilled to be wrapping up improvements ar
 ound Green Lake and Wallingford. While we have some final repairs and smal
 ler improvements still underway\, we want to say a huge thank you to the G
 reen Lake and Wallingford communities for your patience\, understanding\, 
 and collaboration throughout the construction process!</p>\n<p><strong>Ina
 ugural Bike Ride</strong><br />Our week of fun begins with an Inaugural Bi
 ke Ride on Saturday\, July 31 at 10:30 AM. We are starting in the <a href=
 'https://goo.gl/maps/iJCu4oEWg8JU6xJR9'>Flamingo parking lot</a> of the <a
  href='https://www.zoo.org/about'>Woodland Park Zoo</a> located at the cor
 ner of N 50th St and Phinney Ave N. We’ll ride along the expanded bike lan
 es on N 50th St and then proceed north on Green Lake Way N to the new two-
 way bike lane!  We’ll end the ride at the Green Lake Community Center wher
 e there will be kids activities and refreshments from 11am to 1pm.  Projec
 t staff will also be on hand to answer your questions about the new improv
 ements.   </p>\n<p><strong>Scavenger Hunt – Enter to Win!</strong><br />In
  addition to the Inaugural Bike Ride\, we are also hosting a week-long sca
 venger hunt to explore all the multi-modal improvements made around Green 
 Lake and Wallingford.</p>\n<p><strong>To participate\, post a photo of you
 rself completing any of the scavenger hunt activities with the hashtag #Gr
 eenLakeScavanger on Twitter or Instagram to be entered to win a gift card 
 to one of our local participating businesses.</strong> Each activity post 
 will give you one entry. Scavenger hunt is open from Saturday\, July 31 to
  Sunday\, August 8. You can find scavenger hunt details below.</p>\n<p>Sta
 y tuned to our <a href='http://www.seattle.gov/transportation/projects-and
 -programs/programs/maintenance-and-paving/current-paving-projects/green-la
 ke-area-paving-and-safety-projects'>project website</a> for more informati
 on about our celebration!</td>\n</tr>\n</tbody>\n</table>\n</td>\n</tr>\n<
 /tbody>\n</table>\n</td>\n</tr>\n</tbody>\n</table>\n<p> </td>\n</tr>\n</t
 body>\n</table>\n</td>\n</tr>\n</tbody>\n</table>\n<table>\n<tbody>\n<tr>
 \n<td>\n<table>\n<tbody>\n<tr>\n<td></td>\n</tr>\n</tbody>\n</table>\n</td
 >\n</tr>\n</tbody>\n</table>\n<table>\n<tbody>\n<tr>\n<td>\n<table>\n<tbod
 y>\n<tr>\n<td></td>\n</tr>\n</tbody>\n</table>\n</td>\n</tr>\n</tbody>\n</
 table>\n<table>\n<tbody>\n<tr>\n<td>\n<table>\n<tbody>\n<tr>\n<td>\n<p><st
 rong><u>Q</u></strong><strong><u>uestions during about our project? Contac
 t us:</u></strong><br />Christa Dumpys<br />Communications and Outreach Le
 ad<br />Green Lake and Wallingford Paving & Multi-Modal Improvements Outre
 ach Team<br /><a href='mailto:greenlakepavingpaving@seattle.gov'>greenlake
 paving@seattle.gov</a><br />206-693-4151<br /><a href='http://www.seattle.
 gov/transportation/greenlakepaving.htm'>www.seattle.gov/transportation/gre
 enlakepaving.htm</a></p>\n</td>\n</tr>\n</tbody>\n</table>\n</td>\n</tr>\n
 </tbody>\n</table>\n<table>\n<tbody>\n<tr>\n<td>\n<table>\n<tbody>\n<tr>\n
 <td></td>\n</tr>\n</tbody>\n</table>\n</td>\n</tr>\n</tbody>\n</table>\n<t
 able>\n<tbody>\n<tr>\n<td>\n<table>\n<tbody>\n<tr>\n<td>\n<table>\n<tbody>
 \n<tr>\n<td>\n<table>\n<tbody>\n<tr>\n<td><em>At the City of Seattle\, we 
 are continuing to follow guidance from federal\, state\, and local leaders
  and our public health partners regarding COVID-19. To keep our crews and 
 the public safe\, we have required all contractors to submit updated jobsi
 te Health and Safety Plans to ensure that they comply with the safety and 
 social distancing requirements in the Governor’s Order.</em></td>\n</tr>\n
 </tbody>\n</table>\n</td>\n</tr>\n</tbody>\n</table>\n</td>\n</tr>\n</tbod
 y>\n</table>\n</td>\n</tr>\n</tbody>\n</table>\n<table>\n<tbody>\n<tr>\n<t
 d>\n<table>\n<tbody>\n<tr>\n<td></td>\n</tr>\n</tbody>\n</table>\n</td>\n<
 /tr>\n</tbody>\n</table>\n<table>\n<tbody>\n<tr>\n<td>\n<table>\n<tbody>\n
 <tr>\n<td>\n<p><strong>Want to stay informed</strong></p>\n<ul>\n<li><stro
 ng>Visit our </strong><a href='https://seattle.us12.list-manage.com/track/
 click?u=9ce8f1981dc2a45e138ca0a3e&id=4b7143ab83&e=599f00bb96'>online open 
 house</a> to learn about the construction schedule</li>\n<li><strong>See o
 ur </strong><a href='https://seattle.us12.list-manage.com/track/click?u=9c
 e8f1981dc2a45e138ca0a3e&id=6de1f5d95b&e=599f00bb96'>project website</a> fo
 r the information on construction progress and design information</li>\n<l
 i><strong>Check out our </strong><a href='https://seattle.us12.list-manage
 .com/track/click?u=9ce8f1981dc2a45e138ca0a3e&id=5242074f14&e=599f00bb96'>c
 onstruction fact sheet</a> for information on what to expect during constr
 uction</li>\n</ul>\n</td>\n</tr>\n</tbody>\n</table>\n</td>\n</tr>\n</tbod
 y>\n</table>\n<table>\n<tbody>\n<tr>\n<td>\n<table>\n<tbody>\n<tr>\n<td>\n
 <hr>\n<p>The City of Seattle is paving portions of N 40th St\, N 50th St\,
  N 80th St and streets on the east side of Green Lake. To request translat
 ion of these materials\, call 206-693-4151.<br />La Ciudad de Seattle pavi
 mentará porciones de las calles N 40th St\, N 50th St\, N 80th St y calles
  en el lado este de Green Lake a más tardar para el 2019. Para solicitar l
 a traducción de este material\, llame al 206-693-4151.<br />西雅图市政府最快将于2019
 年铺设以下的部分路面：N 40th St\, N 50th St\, N 80th St以及 Green Lake 东边的街道。如 需這些資料的譯文
 ，或是在會議時需要口譯服務，請 致電 206-693-4151。</p>\n</td>\n</tr>\n</tbody>\n</table>\n</
 td>\n</tr>\n</tbody>\n</table>\n<div class='sharedaddy sd-sharing-enabled'
 ><div class='robots-nocontent sd-block sd-social sd-social-icon-text sd-sh
 aring'><h3 class='sd-title'>Share</h3><div class='sd-content'><ul><li clas
 s='share-mastodon'><a rel='nofollow noopener noreferrer' data-shared='shar
 ing-mastodon-505665' class='share-mastodon sd-button share-icon' href='htt
 ps://www.seattlebikeblog.com/2023/08/10/cpsc-should-eliminate-outdated-chi
 ld-coaster-brake-mandate/?share=mastodon' target='_blank' title='Click to 
 share on Mastodon' ><span>Mastodon</span></a></li><li class='share-twitter
 '><a rel='nofollow noopener noreferrer' data-shared='sharing-twitter-50566
 5' class='share-twitter sd-button share-icon' href='https://www.seattlebik
 eblog.com/2023/08/10/cpsc-should-eliminate-outdated-child-coaster-brake-ma
 ndate/?share=twitter' target='_blank' title='Click to share on Twitter' ><
 span>Twitter</span></a></li><li class='share-facebook'><a rel='nofollow no
 opener noreferrer' data-shared='sharing-facebook-505665' class='share-face
 book sd-button share-icon' href='https://www.seattlebikeblog.com/2023/08/1
 0/cpsc-should-eliminate-outdated-child-coaster-brake-mandate/?share=facebo
 ok' target='_blank' title='Click to share on Facebook' ><span>Facebook</sp
 an></a></li><li class='share-reddit'><a rel='nofollow noopener noreferrer'
  data-shared='' class='share-reddit sd-button share-icon' href='https://ww
 w.seattlebikeblog.com/2023/08/10/cpsc-should-eliminate-outdated-child-coas
 ter-brake-mandate/?share=reddit' target='_blank' title='Click to share on 
 Reddit' ><span>Reddit</span></a></li><li class='share-email'><a rel='nofol
 low noopener noreferrer' data-shared='' class='share-email sd-button share
 -icon' href='mailto:?subject=%5BShared%20Post%5D%20CPSC%20should%20elimina
 te%20outdated%20child%20coaster%20brake%20mandate&body=https%3A%2F%2Fwww.s
 eattlebikeblog.com%2F2023%2F08%2F10%2Fcpsc-should-eliminate-outdated-child
 -coaster-brake-mandate%2F&share=email' target='_blank' title='Click to ema
 il a link to a friend' data-email-share-error-title='Do you have email set
  up?' data-email-share-error-text='If you're having problems sharing via e
 mail\, you might not have email set up for your browser. You may need to c
 reate a new email yourself.' data-email-share-nonce='751dd8b6c2' data-emai
 l-share-track-url='https://www.seattlebikeblog.com/2023/08/10/cpsc-should-
 eliminate-outdated-child-coaster-brake-mandate/?share=email'><span>Email</
 span></a></li><li class='share-end'></li></ul></div></div></div>
DTSTART;TZID=America/Los_Angeles:20210731T100000
DTEND;TZID=America/Los_Angeles:20210731T130000
LOCATION:Meet at North 50th Street & Phinney Avenue North\, N 50th St & Phi
 nney Ave N\, Seattle\, WA 98103\, USA
SEQUENCE:0
SUMMARY:E Green Lake Celebration Event with SDOT
URL:https://www.seattlebikeblog.com/event/e-green-lake-celebration-event-wi
 th-sdot/
END:VEVENT
END:VCALENDAR
