BEGIN:VCALENDAR
VERSION:2.0
PRODID:-//172.67.130.121//NONSGML kigkonsult.se iCalcreator 2.26.9//
CALSCALE:GREGORIAN
METHOD:PUBLISH
X-WR-CALNAME:Seattle Bike Blog
X-WR-CALDESC:
X-FROM-URL:https://www.seattlebikeblog.com
X-WR-TIMEZONE:America/Los_Angeles
BEGIN:VTIMEZONE
TZID:America/Los_Angeles
X-LIC-LOCATION:America/Los_Angeles
BEGIN:STANDARD
DTSTART:20231105T020000
TZOFFSETFROM:-0700
TZOFFSETTO:-0800
RDATE:20241103T020000
TZNAME:PST
END:STANDARD
BEGIN:DAYLIGHT
DTSTART:20230312T020000
TZOFFSETFROM:-0800
TZOFFSETTO:-0700
RDATE:20240310T020000
TZNAME:PDT
END:DAYLIGHT
END:VTIMEZONE
BEGIN:VEVENT
UID:0vcalo3574cljqsjcnu2r8cc4l@google.com
DTSTAMP:20230811T071138Z
CATEGORIES;LANGUAGE=en-US:Seattle Neighborhood Greenways
CONTACT:
DESCRIPTION:Every month volunteers gather to collect garbage and help beaut
 ify our neighborhood.  On average\, we collect about 15 bags of garbage pe
 r clean up\, which means 1\,000’s of small pieces of plastic that do not f
 ind their way into Puget Sound.\n—\nSeattle friends and neighbors!! Please
  join us for our ongoing ‘First Saturday’ of the month clean-up effort\, S
 aturday\, 9:00am-12:00pm. We meet on the NW corner of the Art Space buildi
 ng\, just off Rainier Ave. S. & S. Forest St.\, by the Mt. Baker Light Rai
 l Station.\nLook for the Mt. Baker Hub Alliance sign\, a table with sign-u
 p list\, gloves\, pickers\, orange vests and bright yellow bags to collect
  garbage\, maybe a colorful umbrella\, weather dependent\, all next to the
  water ox mural at Hoa Mai Preschool.\nCome spend time in the Hub\, admire
  the murals\, old and new\, and help beautify our wonderful neighborhood o
 n Saturday morning. \nSee you there!!\nEve KellerPresidentMt. Baker Hub Al
 liance  \nShareMastodonTwitterFacebookRedditEmail
DTSTART;TZID=America/Los_Angeles:20201003T090000
DTEND;TZID=America/Los_Angeles:20201003T120000
EXDATE;TZID=America/Los_Angeles:20200905T090000
EXDATE;TZID=America/Los_Angeles:20220101T090000
LOCATION:We meet on the NW corner of the Art Space building\, just off Rain
 ier Ave. S. & S. Forest St.\, by the Mt. Baker Light Rail Station.
RRULE:FREQ=MONTHLY;BYDAY=1SA
SEQUENCE:0
SUMMARY:First Saturday Neighborhood Cleanup — Mt Baker Hub Alliance
URL:https://www.seattlebikeblog.com/event/first-saturday-neighborhood-clean
 up-mt-baker-hub-alliance-4/
X-ALT-DESC;FMTTYPE=text/html:<!DOCTYPE HTML PUBLIC '-//W3C//DTD HTML 3.2//E
 N'>\\n<HTML>\\n<HEAD>\\n<TITLE></TITLE>\\n</HEAD>\\n<BODY><p>Every month v
 olunteers gather to collect garbage and help beautify our neighborhood.  O
 n average\, we collect about 15 bags of garbage per clean up\, which means
  1\,000’s of small pieces of plastic that do not find their way into Puget
  Sound.</p>\n<p>—</p>\n<p>Seattle friends and neighbors!! Please join us f
 or our ongoing ‘First Saturday’ of the month clean-up effort\, <b><br /></
 b><br /><b>Saturday\, 9:00am-12:00pm</b>. <br />We meet on the NW corner o
 f the Art Space building\, just off Rainier Ave. S. & S. Forest St.\, by t
 he Mt. Baker Light Rail Station.</p>\n<p>Look for the Mt. Baker Hub Allian
 ce sign\, a table with sign-up list\, gloves\, pickers\, orange vests and 
 bright yellow bags to collect garbage\, maybe a colorful umbrella\, weathe
 r dependent\, all next to the water ox mural at Hoa Mai Preschool.</p>\n<p
 >Come spend time in the Hub\, admire the murals\, old and new\, and help b
 eautify our wonderful neighborhood on Saturday morning. </p>\n<p>See you t
 here!!</p>\n<p>Eve Keller<br />President<br />Mt. Baker Hub Alliance  </p>
 \n<div class='sharedaddy sd-sharing-enabled'><div class='robots-nocontent 
 sd-block sd-social sd-social-icon-text sd-sharing'><h3 class='sd-title'>Sh
 are</h3><div class='sd-content'><ul><li class='share-mastodon'><a rel='nof
 ollow noopener noreferrer' data-shared='sharing-mastodon-505665' class='sh
 are-mastodon sd-button share-icon' href='https://www.seattlebikeblog.com/2
 023/08/10/cpsc-should-eliminate-outdated-child-coaster-brake-mandate/?shar
 e=mastodon' target='_blank' title='Click to share on Mastodon' ><span>Mast
 odon</span></a></li><li class='share-twitter'><a rel='nofollow noopener no
 referrer' data-shared='sharing-twitter-505665' class='share-twitter sd-but
 ton share-icon' href='https://www.seattlebikeblog.com/2023/08/10/cpsc-shou
 ld-eliminate-outdated-child-coaster-brake-mandate/?share=twitter' target='
 _blank' title='Click to share on Twitter' ><span>Twitter</span></a></li><l
 i class='share-facebook'><a rel='nofollow noopener noreferrer' data-shared
 ='sharing-facebook-505665' class='share-facebook sd-button share-icon' hre
 f='https://www.seattlebikeblog.com/2023/08/10/cpsc-should-eliminate-outdat
 ed-child-coaster-brake-mandate/?share=facebook' target='_blank' title='Cli
 ck to share on Facebook' ><span>Facebook</span></a></li><li class='share-r
 eddit'><a rel='nofollow noopener noreferrer' data-shared='' class='share-r
 eddit sd-button share-icon' href='https://www.seattlebikeblog.com/2023/08/
 10/cpsc-should-eliminate-outdated-child-coaster-brake-mandate/?share=reddi
 t' target='_blank' title='Click to share on Reddit' ><span>Reddit</span></
 a></li><li class='share-email'><a rel='nofollow noopener noreferrer' data-
 shared='' class='share-email sd-button share-icon' href='mailto:?subject=%
 5BShared%20Post%5D%20CPSC%20should%20eliminate%20outdated%20child%20coaste
 r%20brake%20mandate&body=https%3A%2F%2Fwww.seattlebikeblog.com%2F2023%2F08
 %2F10%2Fcpsc-should-eliminate-outdated-child-coaster-brake-mandate%2F&shar
 e=email' target='_blank' title='Click to email a link to a friend' data-em
 ail-share-error-title='Do you have email set up?' data-email-share-error-t
 ext='If you're having problems sharing via email\, you might not have emai
 l set up for your browser. You may need to create a new email yourself.' d
 ata-email-share-nonce='fa8e82c0dd' data-email-share-track-url='https://www
 .seattlebikeblog.com/2023/08/10/cpsc-should-eliminate-outdated-child-coast
 er-brake-mandate/?share=email'><span>Email</span></a></li><li class='share
 -end'></li></ul></div></div></div></BODY></HTML>
END:VEVENT
END:VCALENDAR
