BEGIN:VCALENDAR
VERSION:2.0
PRODID:-//104.21.3.77//NONSGML kigkonsult.se iCalcreator 2.26.9//
CALSCALE:GREGORIAN
METHOD:PUBLISH
X-WR-CALNAME:Seattle Bike Blog
X-WR-CALDESC:
X-FROM-URL:https://www.seattlebikeblog.com
X-WR-TIMEZONE:America/Los_Angeles
BEGIN:VTIMEZONE
TZID:America/Los_Angeles
X-LIC-LOCATION:America/Los_Angeles
BEGIN:STANDARD
DTSTART:20231105T020000
TZOFFSETFROM:-0700
TZOFFSETTO:-0800
RDATE:20241103T020000
TZNAME:PST
END:STANDARD
BEGIN:DAYLIGHT
DTSTART:20230312T020000
TZOFFSETFROM:-0800
TZOFFSETTO:-0700
RDATE:20240310T020000
TZNAME:PDT
END:DAYLIGHT
END:VTIMEZONE
BEGIN:VEVENT
UID:5c4cnrl372gn8lmu782fu0vih1_R20200411T170000@google.com
DTSTAMP:20230811T063841Z
CATEGORIES;LANGUAGE=en-US:Seattle Neighborhood Greenways
CONTACT:
DESCRIPTION:<p>Monthly 2nd Saturday Neighborhood Cleanup. </p>\n<p>If you w
 ant to help with cutting vegetation\, bring your own good gloves and tools
 .  We have yard waste bags\, grabbers\, yellow bags for trash\,  light wei
 ght gloves and vests.</p>\n<p>And\, as usual\, if you want info on startin
 g your own clean-up in Lake City\, contact Chris Leverson with BLCT to get
  supplies\, or message me and I can help.<br />Chris: <a href='mailto:Chri
 s.Leverson@chs-wa.org'>Chris.Leverson@chs-wa.org</a><br />Muriel: m.g.lawt
 y@gmail </p>\n<p>– – –</p>\n<p><b>Muriel Lawty  community volunteer</b></p
 >\n<p><b>206 328 5206<br /><a href='mailto:m.g.lawty@gmail.com'>m.g.lawty@
 gmail.com</a></b></p>\n<div class='sharedaddy sd-sharing-enabled'><div cla
 ss='robots-nocontent sd-block sd-social sd-social-icon-text sd-sharing'><h
 3 class='sd-title'>Share</h3><div class='sd-content'><ul><li class='share-
 mastodon'><a rel='nofollow noopener noreferrer' data-shared='sharing-masto
 don-505665' class='share-mastodon sd-button share-icon' href='https://www.
 seattlebikeblog.com/2023/08/10/cpsc-should-eliminate-outdated-child-coaste
 r-brake-mandate/?share=mastodon' target='_blank' title='Click to share on 
 Mastodon' ><span>Mastodon</span></a></li><li class='share-twitter'><a rel=
 'nofollow noopener noreferrer' data-shared='sharing-twitter-505665' class=
 'share-twitter sd-button share-icon' href='https://www.seattlebikeblog.com
 /2023/08/10/cpsc-should-eliminate-outdated-child-coaster-brake-mandate/?sh
 are=twitter' target='_blank' title='Click to share on Twitter' ><span>Twit
 ter</span></a></li><li class='share-facebook'><a rel='nofollow noopener no
 referrer' data-shared='sharing-facebook-505665' class='share-facebook sd-b
 utton share-icon' href='https://www.seattlebikeblog.com/2023/08/10/cpsc-sh
 ould-eliminate-outdated-child-coaster-brake-mandate/?share=facebook' targe
 t='_blank' title='Click to share on Facebook' ><span>Facebook</span></a></
 li><li class='share-reddit'><a rel='nofollow noopener noreferrer' data-sha
 red='' class='share-reddit sd-button share-icon' href='https://www.seattle
 bikeblog.com/2023/08/10/cpsc-should-eliminate-outdated-child-coaster-brake
 -mandate/?share=reddit' target='_blank' title='Click to share on Reddit' >
 <span>Reddit</span></a></li><li class='share-email'><a rel='nofollow noope
 ner noreferrer' data-shared='' class='share-email sd-button share-icon' hr
 ef='mailto:?subject=%5BShared%20Post%5D%20CPSC%20should%20eliminate%20outd
 ated%20child%20coaster%20brake%20mandate&body=https%3A%2F%2Fwww.seattlebik
 eblog.com%2F2023%2F08%2F10%2Fcpsc-should-eliminate-outdated-child-coaster-
 brake-mandate%2F&share=email' target='_blank' title='Click to email a link
  to a friend' data-email-share-error-title='Do you have email set up?' dat
 a-email-share-error-text='If you're having problems sharing via email\, yo
 u might not have email set up for your browser. You may need to create a n
 ew email yourself.' data-email-share-nonce='fa8e82c0dd' data-email-share-t
 rack-url='https://www.seattlebikeblog.com/2023/08/10/cpsc-should-eliminate
 -outdated-child-coaster-brake-mandate/?share=email'><span>Email</span></a>
 </li><li class='share-end'></li></ul></div></div></div>
DTSTART;TZID=America/Los_Angeles:20200912T100000
DTEND;TZID=America/Los_Angeles:20200912T110000
RRULE:FREQ=MONTHLY;BYDAY=2SA
SEQUENCE:0
SUMMARY:Little Brook Neighborhood Cleanup
URL:https://www.seattlebikeblog.com/event/little-brook-neighborhood-cleanup
 -2/
END:VEVENT
END:VCALENDAR
